BEGIN:VCALENDAR
VERSION:2.0
PRODID:-//Mount Carmel BP Church - ECPv6.15.17//NONSGML v1.0//EN
CALSCALE:GREGORIAN
METHOD:PUBLISH
X-ORIGINAL-URL:https://carmel.sg
X-WR-CALDESC:Events for Mount Carmel BP Church
REFRESH-INTERVAL;VALUE=DURATION:PT1H
X-Robots-Tag:noindex
X-PUBLISHED-TTL:PT1H
BEGIN:VTIMEZONE
TZID:Asia/Singapore
BEGIN:STANDARD
TZOFFSETFROM:+0800
TZOFFSETTO:+0800
TZNAME:+08
DTSTART:20240101T000000
END:STANDARD
END:VTIMEZONE
BEGIN:VEVENT
DTSTART;TZID=Asia/Singapore:20250412T073000
DTEND;TZID=Asia/Singapore:20250412T113000
DTSTAMP:20260423T013625
CREATED:20250404T030823Z
LAST-MODIFIED:20250404T030953Z
UID:10000853-1744443000-1744457400@carmel.sg
SUMMARY:CMfC - Fellowship Through Cycling and Picnic
DESCRIPTION:CMFC is having a cycling event on 12 April at 730am to 1130am around Sembawang area\, we will end with a fellowship picnic. Please scan the QR code or the link below to register. \nRegistration: tinyurl.com/cmfc2025cycle \n 
URL:https://carmel.sg/event/cmfc-fellowship-through-cycling-and-picnic/
LOCATION:Sembawang Park
CATEGORIES:Carmel Men for Christ
ATTACH;FMTTYPE=image/jpeg:https://carmel.sg/wp-content/uploads/2025/04/CMfC-Cycle-Together-@-Sembawang20252.jpg
END:VEVENT
END:VCALENDAR