BEGIN:VCALENDAR
VERSION:2.0
PRODID:-//Mount Carmel BP Church - ECPv6.15.17//NONSGML v1.0//EN
CALSCALE:GREGORIAN
METHOD:PUBLISH
X-WR-CALNAME:Mount Carmel BP Church
X-ORIGINAL-URL:https://carmel.sg
X-WR-CALDESC:Events for Mount Carmel BP Church
REFRESH-INTERVAL;VALUE=DURATION:PT1H
X-Robots-Tag:noindex
X-PUBLISHED-TTL:PT1H
BEGIN:VTIMEZONE
TZID:Asia/Singapore
BEGIN:STANDARD
TZOFFSETFROM:+0800
TZOFFSETTO:+0800
TZNAME:+08
DTSTART:20240101T000000
END:STANDARD
END:VTIMEZONE
BEGIN:VEVENT
DTSTART;TZID=Asia/Singapore:20250417T200000
DTEND;TZID=Asia/Singapore:20250417T213000
DTSTAMP:20260422T023549
CREATED:20250404T031712Z
LAST-MODIFIED:20250404T031712Z
UID:10000854-1744920000-1744925400@carmel.sg
SUMMARY:Maundy Thursday Service
DESCRIPTION:Passion week is very special time where the Carmel family come together to remember what Christ has done for us! \nThis year Maundy Thursday\, we’re focusing on keeping watch – with worship\, scripture readings\, prayer\, and Holy Communion.
URL:https://carmel.sg/event/maundy-thursday-service/
LOCATION:Clementi Bible Center\, Hope Sanctuary\, Level 2\, 152 West Coast Road\, 120370\, Singapore
CATEGORIES:Worship
ATTACH;FMTTYPE=image/jpeg:https://carmel.sg/wp-content/uploads/2025/04/Maundy-Thursday.jpg
END:VEVENT
BEGIN:VEVENT
DTSTART;TZID=Asia/Singapore:20250418T103000
DTEND;TZID=Asia/Singapore:20250418T103000
DTSTAMP:20260422T023549
CREATED:20250321T044303Z
LAST-MODIFIED:20250404T031220Z
UID:10000851-1744972200-1744972200@carmel.sg
SUMMARY:BPCIS Good Friday Service
DESCRIPTION:This Good Friday\, let’s join our friends and family from 11 BPCIS churches for worship at ASCI. \nRev (Dr) Yap Kim Sin from Zion Serangoon will be speaking on “Embracing the Cross of Jesus.” \nPlease register using the below link. Distribution of tickets via fellowship hall booth. \nNote there is no parking onsite. Please park at 28 Dover Crescent instead and board the shuttle buses that will run between Blk 28 and ACS(I). \nRegistration link: https://docs.google.com/forms/d/e/1FAIpQLSdWYQG_TX-ienizuEzz2H_AQA4wRw1bWnKqzmYe7D2qVKiS-A/viewform?usp=sharing
URL:https://carmel.sg/event/bpcis-good-friday-service/
LOCATION:ACS(I) Auditorium 2\, 121 Dover Road\, Singapore\, 139650\, Singapore
CATEGORIES:Worship
ATTACH;FMTTYPE=image/jpeg:https://carmel.sg/wp-content/uploads/2025/03/BPCIS-Good-Friday-Announcement-Slide11.jpg
END:VEVENT
BEGIN:VEVENT
DTSTART;TZID=Asia/Singapore:20250420T063000
DTEND;TZID=Asia/Singapore:20250420T073000
DTSTAMP:20260422T023549
CREATED:20250321T045710Z
LAST-MODIFIED:20250404T032255Z
UID:10000852-1745130600-1745134200@carmel.sg
SUMMARY:Easter Sunrise Service 2025
DESCRIPTION:Easter Sunrise Service on 20th April 2025\, Sunday\, to be held at MacRitchie Reservoir. The service will start at 6.30am. While registration for this event is not required\, those who wish to attend are encouraged to provide some information using the QR code or the below link for the organiser’s planning purpose. \nLink: https://docs.google.com/forms/d/e/1FAIpQLSdPq12t7Tvivn99xLqbBlqnoGe4ALP_GSRUyIir3c0E4z5VBQ/viewform?usp=dialog
URL:https://carmel.sg/event/easter-sunrise-service-2025/
LOCATION:MacRitchie Reservoir\, Lornie Road\, Singapore\, 298735
CATEGORIES:Worship
ATTACH;FMTTYPE=image/jpeg:https://carmel.sg/wp-content/uploads/2025/03/Easter-Sunrise-Service-2025_Annoucement.jpg
END:VEVENT
END:VCALENDAR