BEGIN:VCALENDAR
VERSION:2.0
PRODID:-//Mount Carmel BP Church - ECPv6.15.17//NONSGML v1.0//EN
CALSCALE:GREGORIAN
METHOD:PUBLISH
X-WR-CALNAME:Mount Carmel BP Church
X-ORIGINAL-URL:https://carmel.sg
X-WR-CALDESC:Events for Mount Carmel BP Church
REFRESH-INTERVAL;VALUE=DURATION:PT1H
X-Robots-Tag:noindex
X-PUBLISHED-TTL:PT1H
BEGIN:VTIMEZONE
TZID:Asia/Singapore
BEGIN:STANDARD
TZOFFSETFROM:+0800
TZOFFSETTO:+0800
TZNAME:+08
DTSTART:20240101T000000
END:STANDARD
END:VTIMEZONE
BEGIN:VEVENT
DTSTART;TZID=Asia/Singapore:20250215T090000
DTEND;TZID=Asia/Singapore:20250215T123000
DTSTAMP:20260422T093436
CREATED:20250110T202050Z
LAST-MODIFIED:20250118T042155Z
UID:10000381-1739610000-1739622600@carmel.sg
SUMMARY:Understanding God's Big Picture
DESCRIPTION:This workshop is organised in conjunction with the Bible Reading Plan – Mount Carmel’s 60th anniversary project. \nIt will help us understand why it is so meaningful to read the whole Bible\, and not just individual books and passages. \nCome and find out more about the overarching story in the Bible\, and how\, as we journey through each book in the Bible\, we can keep that Big Picture in mind! \nRegister Here \n 
URL:https://carmel.sg/event/understanding-gods-big-picture/
LOCATION:Clementi Bible Center\, Chapel\, Level 2\, 152 West Coast Road\, 120370\, Singapore
CATEGORIES:Rooted in Christ,Talk
ATTACH;FMTTYPE=image/jpeg:https://carmel.sg/wp-content/uploads/2025/01/Copy-of-Big-Picture-Workshop-BRP-Signages-1600-x-900-px.jpg
END:VEVENT
BEGIN:VEVENT
DTSTART;TZID=Asia/Singapore:20250216T104500
DTEND;TZID=Asia/Singapore:20250216T124500
DTSTAMP:20260422T093436
CREATED:20250110T085915Z
LAST-MODIFIED:20250110T090613Z
UID:10000383-1739702700-1739709900@carmel.sg
SUMMARY:Alpha Course
DESCRIPTION:Alpha is a friendly and fun way to explore the Christian faith. It is a practical introduction to the Christian faith and consists of a series of sessions. Invite your friend and loved ones to join us for the Alpha course starting February 9 on Sunday mornings at 10:45 am. \nRegistration: https://forms.gle/QmAgE1oh6RrYGkxq9 \n 
URL:https://carmel.sg/event/alpha-course/2025-02-16/
LOCATION:Clementi Bible Centre\, 152 West Coast Road\, 127370\, Singapore
CATEGORIES:Course
ATTACH;FMTTYPE=image/png:https://carmel.sg/wp-content/uploads/2025/01/Alpha-9-Feb-2025.png
END:VEVENT
BEGIN:VEVENT
DTSTART;TZID=Asia/Singapore:20250216T133000
DTEND;TZID=Asia/Singapore:20250216T143000
DTSTAMP:20260422T093436
CREATED:20241212T070856Z
LAST-MODIFIED:20250109T183121Z
UID:10000375-1739712600-1739716200@carmel.sg
SUMMARY:Easter Catechism Class
DESCRIPTION:When you believe in Jesus Christ as your Lord and Saviour\, how do you continue to grow spiritually? Sealing your faith through baptism is an outward expression of your internal conviction that Jesus Christ is King. Grow in the Lord by anchoring yourself in Kingdom truths together with the local community of faith. \nTopics covered over 10 weeks: \nScripture\, Tradition and Biblical Interpretation\nGod the Father I: The Attributes and Character of God\nGod the Father II: God\, Creation and Humanity (From Creation to Fall to Israel)\nGod the Spirit: The Holy Spirit’s Work of Salvation and Sanctification\nGod the Son I: Christ’s Divinity and Humanity (Christology)\nGod the Son II: Christ’s Work of Salvation\nThe Church and Sacraments (Baptism and Communion)\nThe Age of the Church and Christ’s Second Coming\nMount Carmel’s History\, Vision and Mission (includes a Field trip to where Mount Carmel Bible-Presbyterian Church first started)\nChurch Membership \nRegistration here.
URL:https://carmel.sg/event/easter-catechism-class/2025-02-16/
LOCATION:Clementi Bible Center\, Room 03-08\, 152 West Coast Road\, 127370\, Singapore
CATEGORIES:Course
ATTACH;FMTTYPE=image/jpeg:https://carmel.sg/wp-content/uploads/2024/12/Easter-Catechism-Website.jpg
END:VEVENT
END:VCALENDAR