BEGIN:VCALENDAR
VERSION:2.0
PRODID:-//Mount Carmel BP Church - ECPv6.15.17//NONSGML v1.0//EN
CALSCALE:GREGORIAN
METHOD:PUBLISH
X-ORIGINAL-URL:https://carmel.sg
X-WR-CALDESC:Events for Mount Carmel BP Church
REFRESH-INTERVAL;VALUE=DURATION:PT1H
X-Robots-Tag:noindex
X-PUBLISHED-TTL:PT1H
BEGIN:VTIMEZONE
TZID:Asia/Singapore
BEGIN:STANDARD
TZOFFSETFROM:+0800
TZOFFSETTO:+0800
TZNAME:+08
DTSTART:20230101T000000
END:STANDARD
END:VTIMEZONE
BEGIN:VEVENT
DTSTART;TZID=Asia/Singapore:20241116T103000
DTEND;TZID=Asia/Singapore:20241116T130000
DTSTAMP:20260422T150337
CREATED:20241025T095141Z
LAST-MODIFIED:20241101T094923Z
UID:10000359-1731753000-1731762000@carmel.sg
SUMMARY:Oasis Celebrating Community
DESCRIPTION:Oasis is organising a talk by Ps Liang Wei. Topic of talk is on Building the Christian Community.  \nDate: 16 November 2024\nTime: 10.30am\nVenue： Hope Sanctuary \nLunch is provided. Please register early. \n​
URL:https://carmel.sg/event/oasis-celebrating-community/
CATEGORIES:Oasis
ATTACH;FMTTYPE=image/jpeg:https://carmel.sg/wp-content/uploads/2024/10/Slide21.jpg
END:VEVENT
BEGIN:VEVENT
DTSTART;TZID=Asia/Singapore:20241117T013000
DTEND;TZID=Asia/Singapore:20241117T023000
DTSTAMP:20260422T150337
CREATED:20240724T174355Z
LAST-MODIFIED:20240904T094726Z
UID:10000126-1731807000-1731810600@carmel.sg
SUMMARY:Christmas Catechism Class
DESCRIPTION:When you believe in Jesus Christ as your Lord and Saviour\, how do you continue to grow spiritually? Sealing your faith through baptism is an outward expression of your internal conviction that Jesus Christ is King. Grow in the Lord by anchoring yourself in Kingdom truths together with the local community of faith. \n\nTopics covered over 10 weeks: \n\n\n\n\nScripture\, Tradition and Biblical Interpretation\n\n\n\nGod the Father I: The Attributes and Character of God\n\n\n\nGod the Father II: God\, Creation and Humanity (From Creation to Fall to Israel)\n\n\n\nGod the Spirit: The Holy Spirit’s Work of Salvation and Sanctification\n\n\n\nGod the Son I: Christ’s Divinity and Humanity (Christology)\n\n\n\nGod the Son II: Christ’s Work of Salvation\n\n\n\nThe Church and Sacraments (Baptism and Communion)\n\n\n\nThe Age of the Church and Christ’s Second Coming\n\n\n\nMount Carmel’s History\, Vision and Mission (includes a Field trip to where Mount Carmel Bible-Prebyterian Church first started)\n\n\n\nChurch Membership\n\nRegistration here.
URL:https://carmel.sg/event/christmas-catechism-class/2024-11-17/
LOCATION:Clementi Bible Centre\, 152 West Coast Road\, 127370\, Singapore
CATEGORIES:Course
ATTACH;FMTTYPE=image/jpeg:https://carmel.sg/wp-content/uploads/2024/07/All-Baptism-Announcements.jpg
END:VEVENT
END:VCALENDAR