BEGIN:VCALENDAR
VERSION:2.0
PRODID:-//Mount Carmel BP Church - ECPv6.15.17//NONSGML v1.0//EN
CALSCALE:GREGORIAN
METHOD:PUBLISH
X-WR-CALNAME:Mount Carmel BP Church
X-ORIGINAL-URL:https://carmel.sg
X-WR-CALDESC:Events for Mount Carmel BP Church
REFRESH-INTERVAL;VALUE=DURATION:PT1H
X-Robots-Tag:noindex
X-PUBLISHED-TTL:PT1H
BEGIN:VTIMEZONE
TZID:Asia/Singapore
BEGIN:STANDARD
TZOFFSETFROM:+0800
TZOFFSETTO:+0800
TZNAME:+08
DTSTART:20230101T000000
END:STANDARD
END:VTIMEZONE
BEGIN:VEVENT
DTSTART;TZID=Asia/Singapore:20241011T190000
DTEND;TZID=Asia/Singapore:20241011T210000
DTSTAMP:20260422T184304
CREATED:20240722T155650Z
LAST-MODIFIED:20240724T164630Z
UID:10000020-1728673200-1728680400@carmel.sg
SUMMARY:Alpha
DESCRIPTION:The Alpha Course introduces Christianity to those who are curious or keen to learn more about the faith. Alpha is for everyone. It is a safe place for you to unreservedly ask any questions you may have! Starting 16 August 2024. Join us for dinner and have deep and meaningful discussions about life’s purpose in a safe and open environment. Register: https://bit.ly/3WwUDf5  
URL:https://carmel.sg/event/alpha/2024-10-11/
LOCATION:Clementi Bible Center\, Room 03-07\, 152 West Coast Road\, 120370\, Singapore
CATEGORIES:Course,Evangelism
ATTACH;FMTTYPE=image/jpeg:https://carmel.sg/wp-content/uploads/2024/07/Copy-of-Evangelism-Training-1-2.jpg
END:VEVENT
BEGIN:VEVENT
DTSTART;TZID=Asia/Singapore:20241012T090000
DTEND;TZID=Asia/Singapore:20241012T123000
DTSTAMP:20260422T184304
CREATED:20240724T170747Z
LAST-MODIFIED:20240815T164025Z
UID:10000299-1728723600-1728736200@carmel.sg
SUMMARY:Hearing God Workship Series
DESCRIPTION:Hearing God series: Discerning God’s voice in Word\, Spirit and Prayer \nHow is your spiritual walk with Jesus? Are you wondering how to have Jesus as the center of your life? Come and learn what it means to discern the voice of God in Word\, Spirit and Prayer. \nYour commitment for the entire series is required as this is a sequential learning process. \nRegister: https://bit.ly/HGWS
URL:https://carmel.sg/event/hearing-god-series/2024-10-12/
LOCATION:Clementi Bible Center\, Chapel\, Level 2\, 152 West Coast Road\, 120370\, Singapore
CATEGORIES:Course
ATTACH;FMTTYPE=image/jpeg:https://carmel.sg/wp-content/uploads/2024/07/Website-Cover-4.jpg
END:VEVENT
BEGIN:VEVENT
DTSTART;TZID=Asia/Singapore:20241012T140000
DTEND;TZID=Asia/Singapore:20241012T161500
DTSTAMP:20260422T184304
CREATED:20240816T024332Z
LAST-MODIFIED:20240816T024332Z
UID:10000311-1728741600-1728749700@carmel.sg
SUMMARY:Bysid Course
DESCRIPTION:Are you dating someone at the moment? Why not strengthen your relationship further? We invite you to the BYSID course. BYSID helps couples to grow in all areas of relationship. This BYSID course combines tools\, knowledge and experiential times which are essential as you grow in your relationship.  Those of us who are couples planning to get married\, please note: it is a requirement to attend BYSID course. We are starting soon in September.  \nSign up to access more details: https://tinyurl.com/Bysid24 \n  \n​
URL:https://carmel.sg/event/bysid-course/2024-10-12/
LOCATION:Clementi Bible Center\, Hive\, Room 02-13\, 152 West Coast Road\, 120370\, Singapore
CATEGORIES:Course
ATTACH;FMTTYPE=image/jpeg:https://carmel.sg/wp-content/uploads/2024/08/Bysid-Course-for-website.jpg
END:VEVENT
BEGIN:VEVENT
DTSTART;TZID=Asia/Singapore:20241013T013000
DTEND;TZID=Asia/Singapore:20241013T023000
DTSTAMP:20260422T184304
CREATED:20240724T174355Z
LAST-MODIFIED:20240904T094726Z
UID:10000121-1728783000-1728786600@carmel.sg
SUMMARY:Christmas Catechism Class
DESCRIPTION:When you believe in Jesus Christ as your Lord and Saviour\, how do you continue to grow spiritually? Sealing your faith through baptism is an outward expression of your internal conviction that Jesus Christ is King. Grow in the Lord by anchoring yourself in Kingdom truths together with the local community of faith. \n\nTopics covered over 10 weeks: \n\n\n\n\nScripture\, Tradition and Biblical Interpretation\n\n\n\nGod the Father I: The Attributes and Character of God\n\n\n\nGod the Father II: God\, Creation and Humanity (From Creation to Fall to Israel)\n\n\n\nGod the Spirit: The Holy Spirit’s Work of Salvation and Sanctification\n\n\n\nGod the Son I: Christ’s Divinity and Humanity (Christology)\n\n\n\nGod the Son II: Christ’s Work of Salvation\n\n\n\nThe Church and Sacraments (Baptism and Communion)\n\n\n\nThe Age of the Church and Christ’s Second Coming\n\n\n\nMount Carmel’s History\, Vision and Mission (includes a Field trip to where Mount Carmel Bible-Prebyterian Church first started)\n\n\n\nChurch Membership\n\nRegistration here.
URL:https://carmel.sg/event/christmas-catechism-class/2024-10-13/
LOCATION:Clementi Bible Centre\, 152 West Coast Road\, 127370\, Singapore
CATEGORIES:Course
ATTACH;FMTTYPE=image/jpeg:https://carmel.sg/wp-content/uploads/2024/07/All-Baptism-Announcements.jpg
END:VEVENT
END:VCALENDAR