BEGIN:VCALENDAR
VERSION:2.0
PRODID:-//Mount Carmel BP Church - ECPv6.15.17//NONSGML v1.0//EN
CALSCALE:GREGORIAN
METHOD:PUBLISH
X-WR-CALNAME:Mount Carmel BP Church
X-ORIGINAL-URL:https://carmel.sg
X-WR-CALDESC:Events for Mount Carmel BP Church
REFRESH-INTERVAL;VALUE=DURATION:PT1H
X-Robots-Tag:noindex
X-PUBLISHED-TTL:PT1H
BEGIN:VTIMEZONE
TZID:Asia/Singapore
BEGIN:STANDARD
TZOFFSETFROM:+0800
TZOFFSETTO:+0800
TZNAME:+08
DTSTART:20230101T000000
END:STANDARD
END:VTIMEZONE
BEGIN:VEVENT
DTSTART;TZID=Asia/Singapore:20240905T190000
DTEND;TZID=Asia/Singapore:20240905T210000
DTSTAMP:20260422T190856
CREATED:20240724T164457Z
LAST-MODIFIED:20240812T044954Z
UID:10000307-1725562800-1725570000@carmel.sg
SUMMARY:Alpha
DESCRIPTION:The Alpha Course introduces Christianity to those who are curious or keen to learn more about the faith. Alpha is for everyone. It is a safe place for you to unreservedly ask any questions you may have! Starting 16 August 2024. Join us for dinner and have deep and meaningful discussions about life’s purpose in a safe and open environment. Register: https://bit.ly/3WwUDf5  
URL:https://carmel.sg/event/alpha-2/2024-09-05/
LOCATION:Clementi Bible Center\, Room 03-01\, 152 West Coast Road\, 120370\, Singapore
CATEGORIES:Course,Evangelism
ATTACH;FMTTYPE=image/jpeg:https://carmel.sg/wp-content/uploads/2024/07/Copy-of-Evangelism-Training-1-2.jpg
END:VEVENT
BEGIN:VEVENT
DTSTART;TZID=Asia/Singapore:20240906T190000
DTEND;TZID=Asia/Singapore:20240906T210000
DTSTAMP:20260422T190856
CREATED:20240722T155650Z
LAST-MODIFIED:20240724T164630Z
UID:10000015-1725649200-1725656400@carmel.sg
SUMMARY:Alpha
DESCRIPTION:The Alpha Course introduces Christianity to those who are curious or keen to learn more about the faith. Alpha is for everyone. It is a safe place for you to unreservedly ask any questions you may have! Starting 16 August 2024. Join us for dinner and have deep and meaningful discussions about life’s purpose in a safe and open environment. Register: https://bit.ly/3WwUDf5  
URL:https://carmel.sg/event/alpha/2024-09-06/
LOCATION:Clementi Bible Center\, Room 03-07\, 152 West Coast Road\, 120370\, Singapore
CATEGORIES:Course,Evangelism
ATTACH;FMTTYPE=image/jpeg:https://carmel.sg/wp-content/uploads/2024/07/Copy-of-Evangelism-Training-1-2.jpg
END:VEVENT
END:VCALENDAR