BEGIN:VCALENDAR
VERSION:2.0
PRODID:-//Mount Carmel BP Church - ECPv6.15.17//NONSGML v1.0//EN
CALSCALE:GREGORIAN
METHOD:PUBLISH
X-WR-CALNAME:Mount Carmel BP Church
X-ORIGINAL-URL:https://carmel.sg
X-WR-CALDESC:Events for Mount Carmel BP Church
REFRESH-INTERVAL;VALUE=DURATION:PT1H
X-Robots-Tag:noindex
X-PUBLISHED-TTL:PT1H
BEGIN:VTIMEZONE
TZID:Asia/Singapore
BEGIN:STANDARD
TZOFFSETFROM:+0800
TZOFFSETTO:+0800
TZNAME:+08
DTSTART:20230101T000000
END:STANDARD
END:VTIMEZONE
BEGIN:VEVENT
DTSTART;TZID=Asia/Singapore:20240823T190000
DTEND;TZID=Asia/Singapore:20240823T210000
DTSTAMP:20260422T190824
CREATED:20240722T155650Z
LAST-MODIFIED:20240724T164630Z
UID:10000013-1724439600-1724446800@carmel.sg
SUMMARY:Alpha
DESCRIPTION:The Alpha Course introduces Christianity to those who are curious or keen to learn more about the faith. Alpha is for everyone. It is a safe place for you to unreservedly ask any questions you may have! Starting 16 August 2024. Join us for dinner and have deep and meaningful discussions about life’s purpose in a safe and open environment. Register: https://bit.ly/3WwUDf5  
URL:https://carmel.sg/event/alpha/2024-08-23/
LOCATION:Clementi Bible Center\, Room 03-07\, 152 West Coast Road\, 120370\, Singapore
CATEGORIES:Course,Evangelism
ATTACH;FMTTYPE=image/jpeg:https://carmel.sg/wp-content/uploads/2024/07/Copy-of-Evangelism-Training-1-2.jpg
END:VEVENT
BEGIN:VEVENT
DTSTART;TZID=Asia/Singapore:20240823T194500
DTEND;TZID=Asia/Singapore:20240823T213000
DTSTAMP:20260422T190824
CREATED:20240812T044058Z
LAST-MODIFIED:20240812T150003Z
UID:10000306-1724442300-1724448600@carmel.sg
SUMMARY:Missions Festival - Hybrid Prayer Meeting
DESCRIPTION:Hybrid Prayer Meeting \n16 August Prayer Focus – Thailand\, Myanmar\, Vietnam\, Cambodia\, China and Rev Lim Kheng Hai. \n23 August Prayer Focus – Indonesia\, India\, Philippines\, Ps Daniel Chua.
URL:https://carmel.sg/event/mission-festival-2/2024-08-23/
LOCATION:Clementi Bible Center\, Room 03-05\, 152 West Coast Road\, 127370\, Singapore
CATEGORIES:Missions
ATTACH;FMTTYPE=image/jpeg:https://carmel.sg/wp-content/uploads/2024/07/Missions-Festival-3.jpg
END:VEVENT
BEGIN:VEVENT
DTSTART;TZID=Asia/Singapore:20240824T080000
DTEND;TZID=Asia/Singapore:20240825T170000
DTSTAMP:20260422T190824
CREATED:20240725T124451Z
LAST-MODIFIED:20240812T044832Z
UID:10000304-1724486400-1724605200@carmel.sg
SUMMARY:Missions Festival
DESCRIPTION:Missions Fair  \nAn annual event that exists to inform and excite Carmelites about what God is doing in the countries that Mount Carmel is involved in. \nCome down to the missions’ booths to adopt a missionary or pen a greeting to encourage them. You can also speak with our representatives and other missions organisations\, if you are contemplating joining a short-term missions trip. \nFood festival is back with plenty of surprises and old favorites too on 25 August. Come and enjoy a meal with us and remember the harvest field. \nFund raising for Missions by The Church Flower Ministry Team on 17 and 18 August.  Pick up beautiful crafted arrangements and do your part to support missions.
URL:https://carmel.sg/event/mission-festival/2024-08-24/
LOCATION:Clementi Bible Centre\, 152 West Coast Road\, 127370\, Singapore
CATEGORIES:Missions
ATTACH;FMTTYPE=image/jpeg:https://carmel.sg/wp-content/uploads/2024/07/Missions-Festival-3.jpg
END:VEVENT
END:VCALENDAR