BEGIN:VCALENDAR
VERSION:2.0
PRODID:-//Mount Carmel BP Church - ECPv6.15.17//NONSGML v1.0//EN
CALSCALE:GREGORIAN
METHOD:PUBLISH
X-ORIGINAL-URL:https://carmel.sg
X-WR-CALDESC:Events for Mount Carmel BP Church
REFRESH-INTERVAL;VALUE=DURATION:PT1H
X-Robots-Tag:noindex
X-PUBLISHED-TTL:PT1H
BEGIN:VTIMEZONE
TZID:Asia/Singapore
BEGIN:STANDARD
TZOFFSETFROM:+0800
TZOFFSETTO:+0800
TZNAME:+08
DTSTART:20230101T000000
END:STANDARD
END:VTIMEZONE
BEGIN:VEVENT
DTSTART;TZID=Asia/Singapore:20240803T140000
DTEND;TZID=Asia/Singapore:20240803T180000
DTSTAMP:20260422T184403
CREATED:20240722T152705Z
LAST-MODIFIED:20240724T164812Z
UID:10000010-1722693600-1722708000@carmel.sg
SUMMARY:I Love West Coast Weekend
DESCRIPTION:On 3 and 4 August\, we are holding “I Love West Coast” Weekend together with The Bible Church and Clementi Woods Kindergarten. If you have friends or are staying in our hood\, we invite you to come join us for this fun-filled weekend. \nNew friends who come with this e-flyers will get to redeem a door gift and coupons for snacks. \nCome join us to get to know our friends and neighbours too.
URL:https://carmel.sg/event/i-love-west-coast-weekend/2024-08-03/
LOCATION:Clementi Bible Centre\, 152 West Coast Road\, 127370\, Singapore
CATEGORIES:Community Services
ATTACH;FMTTYPE=image/jpeg:https://carmel.sg/wp-content/uploads/2024/07/Picture3.jpg
END:VEVENT
BEGIN:VEVENT
DTSTART;TZID=Asia/Singapore:20240804T100000
DTEND;TZID=Asia/Singapore:20240804T140000
DTSTAMP:20260422T184403
CREATED:20240722T152705Z
LAST-MODIFIED:20240724T164812Z
UID:10000075-1722765600-1722780000@carmel.sg
SUMMARY:I Love West Coast Weekend
DESCRIPTION:On 3 and 4 August\, we are holding “I Love West Coast” Weekend together with The Bible Church and Clementi Woods Kindergarten. If you have friends or are staying in our hood\, we invite you to come join us for this fun-filled weekend. \nNew friends who come with this e-flyers will get to redeem a door gift and coupons for snacks. \nCome join us to get to know our friends and neighbours too.
URL:https://carmel.sg/event/i-love-west-coast-weekend/2024-08-04/
LOCATION:Clementi Bible Centre\, 152 West Coast Road\, 127370\, Singapore
CATEGORIES:Community Services
ATTACH;FMTTYPE=image/jpeg:https://carmel.sg/wp-content/uploads/2024/07/Picture3.jpg
END:VEVENT
END:VCALENDAR