BEGIN:VCALENDAR
VERSION:2.0
PRODID:-//Mount Carmel BP Church - ECPv6.15.17//NONSGML v1.0//EN
CALSCALE:GREGORIAN
METHOD:PUBLISH
X-ORIGINAL-URL:https://carmel.sg
X-WR-CALDESC:Events for Mount Carmel BP Church
REFRESH-INTERVAL;VALUE=DURATION:PT1H
X-Robots-Tag:noindex
X-PUBLISHED-TTL:PT1H
BEGIN:VTIMEZONE
TZID:Asia/Singapore
BEGIN:STANDARD
TZOFFSETFROM:+0800
TZOFFSETTO:+0800
TZNAME:+08
DTSTART:20230101T000000
END:STANDARD
END:VTIMEZONE
BEGIN:VEVENT
DTSTART;TZID=Asia/Singapore:20240720T100000
DTEND;TZID=Asia/Singapore:20240720T153000
DTSTAMP:20260422T235940
CREATED:20240626T020917Z
LAST-MODIFIED:20240626T021248Z
UID:10000007-1721469600-1721489400@carmel.sg
SUMMARY:Evangelism Workshop - The Forgotten Art of Evangelism
DESCRIPTION:Ps Richard Ong will be conducting an Evangelism Workshop: The Forgotten Art of Evangelism. All ministries are welcomed to attend. Scan the QR code to register.​
URL:https://carmel.sg/event/evangelism-workshop-the-forgotten-art-of-evangelism/
LOCATION:Clementi Bible Center\, Room 03-05\, 152 West Coast Road\, 127370\, Singapore
ATTACH;FMTTYPE=image/png:https://carmel.sg/wp-content/uploads/2024/06/Evangelism.png
END:VEVENT
END:VCALENDAR