BEGIN:VCALENDAR
VERSION:2.0
PRODID:-//Mount Carmel BP Church - ECPv6.15.17//NONSGML v1.0//EN
CALSCALE:GREGORIAN
METHOD:PUBLISH
X-WR-CALNAME:Mount Carmel BP Church
X-ORIGINAL-URL:https://carmel.sg
X-WR-CALDESC:Events for Mount Carmel BP Church
REFRESH-INTERVAL;VALUE=DURATION:PT1H
X-Robots-Tag:noindex
X-PUBLISHED-TTL:PT1H
BEGIN:VTIMEZONE
TZID:Asia/Singapore
BEGIN:STANDARD
TZOFFSETFROM:+0800
TZOFFSETTO:+0800
TZNAME:+08
DTSTART:20250101T000000
END:STANDARD
END:VTIMEZONE
BEGIN:VEVENT
DTSTART;TZID=Asia/Singapore:20260228T093000
DTEND;TZID=Asia/Singapore:20260228T113000
DTSTAMP:20260423T070311
CREATED:20260223T030116Z
LAST-MODIFIED:20260223T030116Z
UID:10001082-1772271000-1772278200@carmel.sg
SUMMARY:Carmel Men for Christ - Facing the Challenge Series
DESCRIPTION:We’re excited to launch a new 4-part men’s series\, Facing the Challenge\, beginning 28 February 2026. \nThis series invites men to rise to God’s standards by honestly addressing common struggles—power\, money\, sex\, and anger. While these challenges can distract and derail us\, they do not have to define who we are. \nCome learn how to confront these issues with God’s truth\, find freedom\, and grow into the men God has called us to be. All men are warmly invited to join us as we step up\, stand firm\, and be strengthened together.
URL:https://carmel.sg/event/carmel-men-for-christ-facing-the-challenge-series/
LOCATION:Clementi Bible Center\, Room 03-01\, 152 West Coast Road\, 120370\, Singapore
CATEGORIES:Carmel Men for Christ
ATTACH;FMTTYPE=image/jpeg:https://carmel.sg/wp-content/uploads/2026/02/CMfC-28-Feb-26-AD.jpg
END:VEVENT
BEGIN:VEVENT
DTSTART;TZID=Asia/Singapore:20260314T100000
DTEND;TZID=Asia/Singapore:20260314T120000
DTSTAMP:20260423T070311
CREATED:20260223T025653Z
LAST-MODIFIED:20260223T025653Z
UID:10001081-1773482400-1773489600@carmel.sg
SUMMARY:Oasis 9th Anniversary Celebration
DESCRIPTION:Join us as Oasis celebrates her 9th Anniversary\, a meaningful time of celebration and thanksgiving. \nDate: Saturday\, 14 March 2026\nTime: 10am-12 noon \nWe are honoured to have Rev Toh See Kiat sharing on the theme “God Is Not Done with You Yet.”\nThrough this message\, we will be reminded that God continues to work in our lives. He has not given up on us and desires to shape us as His vessels\, even in our autumn years. \nCome and discover what God may be speaking to you\, and how you can continue to live a life that is useful and pleasing to Him. \n🍽️ Lunch will be provided. \nPlease register with the link below:\nhttps://chat.whatsapp.com/I9fNYk4jzEr8Mkq6X00AkI?mode=gi_t \nWe look forward to celebrating together.
URL:https://carmel.sg/event/oasis-9th-anniversary-celebration/
LOCATION:Clementi Bible Center\, Hope Sanctuary\, Level 2\, 152 West Coast Road\, 120370\, Singapore
CATEGORIES:Oasis
ATTACH;FMTTYPE=image/jpeg:https://carmel.sg/wp-content/uploads/2026/02/Oasis-9-Anniversary-Publicity.jpg
END:VEVENT
BEGIN:VEVENT
DTSTART;TZID=Asia/Singapore:20260322T133000
DTEND;TZID=Asia/Singapore:20260322T153000
DTSTAMP:20260423T070311
CREATED:20260206T054208Z
LAST-MODIFIED:20260214T111728Z
UID:10001080-1774186200-1774193400@carmel.sg
SUMMARY:Easter Infant Baptism Class 2026
DESCRIPTION:Parents who are planning to register their child for this year’s Easter Infant Baptism are invited to do so by calling the church office or click the link provided below. \nBaptism Dates:\n📅 Saturday\, 4 April 2026\n📅 Sunday\, 5 April 2026 \nTo help parents prepare for this special occasion\, a Parents’ Class will be conducted on Sunday\, 22 March 2026\, from 1.30 pm to 3:30pm. \nWe look forward to celebrating this meaningful milestone with you and your family. \nRegister Here.
URL:https://carmel.sg/event/easter-infant-baptism-class-2026/
LOCATION:Clementi Bible Center\, Room 03-08\, 152 West Coast Road\, 127370\, Singapore
CATEGORIES:Catechism
ATTACH;FMTTYPE=image/jpeg:https://carmel.sg/wp-content/uploads/2026/02/Infant-Baptism.jpg
END:VEVENT
BEGIN:VEVENT
DTSTART;TZID=Asia/Singapore:20260328T140000
DTEND;TZID=Asia/Singapore:20260328T160000
DTSTAMP:20260423T070311
CREATED:20260306T092947Z
LAST-MODIFIED:20260306T092947Z
UID:10001083-1774706400-1774713600@carmel.sg
SUMMARY:A Self-Guided Walk: The Final Hours of Jesus
DESCRIPTION:Step into a reflective journey through the final hours of Jesus’ suffering and death. This self-guided experience invites you to move through a series of stations where you will read and meditate on Scripture and reflect on guided questions. \nTake this time to slow down\, contemplate Christ’s sacrifice\, and prepare your heart during the Easter season. \nEvent Details\nDate: Saturday\, 28 March\nTime: 2:00 – 4:30 p.m.\nMeeting Point: Hope Sanctuary \nThis event is open to everyone.\nTo help us prepare the printed devotional materials\, registration is required. \nPlease sign up with the link below:\nhttps://forms.office.com/r/6q5vZfEuwu?origin=lprLink
URL:https://carmel.sg/event/a-self-guided-walk-the-final-hours-of-jesus/
LOCATION:Clementi Bible Center\, 152 West Coast Road\, 127370\, Singapore
CATEGORIES:Ladies
ATTACH;FMTTYPE=image/jpeg:https://carmel.sg/wp-content/uploads/2026/03/Stations-of-the-Cross-Your-Story-Announcement-Slide.jpg
END:VEVENT
BEGIN:VEVENT
DTSTART;VALUE=DATE:20260403
DTEND;VALUE=DATE:20260404
DTSTAMP:20260423T070311
CREATED:20260306T102346Z
LAST-MODIFIED:20260306T102346Z
UID:10001084-1775174400-1775260799@carmel.sg
SUMMARY:BPCIS Combined Good Friday West Service 2026
DESCRIPTION:This Good Friday\, the BPCIS churches will gather across three locations islandwide for a united time of worship and reflection. \nHebron\, Mt Hermon\, Mt Horeb\, and Mt Carmel will gather at Mt Carmel for a combined service as we remember Christ’s sacrifice together. \nTheme: The Cross of Golgotha\nWe will meditate on Matthew 27 as we reflect on the suffering and saving work of our Lord Jesus Christ. \nDate & Time\nFriday\, 3 April 2026\n• 9:00 a.m.\n• 11:15 a.m. \nLight refreshments will be served after the 9:00 a.m. service. \nVenue\nMt Carmel Bible-Presbyterian Church \nAdditional Information\nPlease note that there will be no Maundy Thursday service at Carmel this year. \nLet us come together as one church family to remember Christ’s sacrifice and prepare our hearts for Resurrection Sunday.
URL:https://carmel.sg/event/bpcis-combined-good-friday-west-service-2026/
LOCATION:120370
CATEGORIES:Ladies
ATTACH;FMTTYPE=image/png:https://carmel.sg/wp-content/uploads/2026/03/BPCIS-GF.png
END:VEVENT
BEGIN:VEVENT
DTSTART;TZID=Asia/Singapore:20260405T123000
DTEND;TZID=Asia/Singapore:20260405T160000
DTSTAMP:20260423T070311
CREATED:20260327T034030Z
LAST-MODIFIED:20260327T034030Z
UID:10001085-1775392200-1775404800@carmel.sg
SUMMARY:Young Adults Easter Gathering
DESCRIPTION:How many times have you heard the Easter story—Jesus dying on the cross\, buried\, and raised to life three days later? \nBut how often have you paused to consider how this “old” story brings new hope for us today? \nJoin the Young Adults Ministry as we explore what Easter means for our lives today. Through shared conversations and interactive activities\, we’ll discover the truth and relevance of Jesus’ resurrection together. \nEvent Details\nDate: Sunday\, 5 April\nTime: 12:30 p.m. – 4:00 p.m.\nLunch will be provided \nThis gathering is open to everyone—whether you are a non-Christian\, a new believer\, or a long-time follower of Christ. We trust that you will gain fresh insights into the Gospel. \nPlease sign up with the link below. \nRegistration: https://forms.gle/zZk5cMrJMUHMZwSX9 \n\nIf you’d like\, I can also create a short homepage banner version (more concise and punchy) for your website.
URL:https://carmel.sg/event/young-adults-easter-gathering/
LOCATION:Clementi Bible Center\, 152 West Coast Road\, 127370\, Singapore
CATEGORIES:Young Adult Ministry
ATTACH;FMTTYPE=image/jpeg:https://carmel.sg/wp-content/uploads/2026/03/Just-3-steps-Pray-for-friendsfamily-Invite-them-to-hear-the-good-news-Sign-up-so-we-can-cater.jpg
END:VEVENT
BEGIN:VEVENT
DTSTART;TZID=Asia/Singapore:20260424T200000
DTEND;TZID=Asia/Singapore:20260424T220000
DTSTAMP:20260423T070311
CREATED:20260327T045247Z
LAST-MODIFIED:20260327T045247Z
UID:10001087-1777060800-1777068000@carmel.sg
SUMMARY:Prayer & Praise
DESCRIPTION:Find Strength in Christ\nFeeling tired\, discouraged\, or running on empty? \nGod invites us to come freely\, confidently\, and boldly into His presence—and that’s exactly what we’re going to do together. \nCome ready to seek God\, lift your voice in praise\, and be renewed in His presence. Whether you’re facing challenges\, feeling weary\, or simply hungry for more of God\, this is a space to be strengthened from the inside out. \nLet’s not lose heart—but be rooted and grounded in His amazing love\, and discover afresh the depth of Christ’s love that fills and sustains us. \nEvent Details\n📅 Friday\, 24 April 2026⏰ 8:00 PM📍 Hope Sanctuary \n🙌 Gather with us as one church family🔥 Be refreshed in His presence💛 Be strengthened in Christ \nCome expectant. Come hungry. Leave strengthened.
URL:https://carmel.sg/event/prayer-praise-2/
LOCATION:Clementi Bible Center\, Hope Sanctuary\, Level 2\, 152 West Coast Road\, 120370\, Singapore
CATEGORIES:Prayer & Praise
ATTACH;FMTTYPE=image/jpeg:https://carmel.sg/wp-content/uploads/2026/03/Prayer-and-Praise-Slides.jpg
END:VEVENT
BEGIN:VEVENT
DTSTART;TZID=Asia/Singapore:20260425T093000
DTEND;TZID=Asia/Singapore:20260425T113000
DTSTAMP:20260423T070311
CREATED:20260327T034433Z
LAST-MODIFIED:20260327T034433Z
UID:10001086-1777109400-1777116600@carmel.sg
SUMMARY:Carmel Men for Christ: Facing the Challenge
DESCRIPTION:A Man and His Wealth\nCarmel Men for Christ warmly invites you to our upcoming session in the Facing the Challenge series\, titled “A Man and His Wealth.” \nIn this thought-provoking session\, we will explore how money shapes our hearts\, identity\, and purpose—and why it is not merely a practical matter\, but a deeply spiritual one. \nTogether\, we will be challenged to rethink our attitudes toward wealth and discover what it means to be truly “rich toward God.” \nEvent Details\nDate: Saturday\, 25 April 2026\nTime: 9:30 a.m. – 11:30 a.m.\nVenue: Room #03-01 \nThis session is for every man—whether you are struggling\, striving\, or seeking contentment. \nCome\, and invite another brother along. Let us grow together as men of purpose and faithful stewards before God.
URL:https://carmel.sg/event/carmel-men-for-christ-facing-the-challenge/
LOCATION:Clementi Bible Center\, Room 03-01\, 152 West Coast Road\, 120370\, Singapore
CATEGORIES:Carmel Men for Christ
ATTACH;FMTTYPE=image/jpeg:https://carmel.sg/wp-content/uploads/2026/03/CMfC-25-Apr-26-AD_4544.jpg
END:VEVENT
BEGIN:VEVENT
DTSTART;VALUE=DATE:20260612
DTEND;VALUE=DATE:20260616
DTSTAMP:20260423T070311
CREATED:20251128T031454Z
LAST-MODIFIED:20260228T035333Z
UID:10001048-1781222400-1781567999@carmel.sg
SUMMARY:Church Camp 2026 – Strengthened in Christ's Community
DESCRIPTION:Church\, it’s time to start planning ahead for Church Camp 2026! This year\, we will gather to learn what it means to be “Strengthened in Christ’s Community”. \nWe are pleased to have Dr Lim Kar Yong as our camp speaker. Dr Lim is a respected New Testament scholar from Malaysia\, well known for leading Bible Land Tours for more than a decade. He teaches regularly in Malaysia as well as at BGST\, and we look forward to learning from his insights. \nTo encourage as many Carmelites as possible to join us\, a camp subsidy will be given to all participants. Camp fees are listed as published.\nTo receive the subsidy\, please ensure that you register and make payment by the end of March 2026. From April 2026 onward\, the subsidy will no longer be available. \nIf you are able and prefer not to take the subsidy\, you may choose to opt out. Simply indicate your choice in the registration form. \nLet’s come together as a church family—mark your calendars and plan ahead for a meaningful time of learning\, growth\, and fellowship! \nCamp Website: carmel.sg/camp \nRegistration link: Mount Carmel Church Camp 2026
URL:https://carmel.sg/event/church-camp-2026-strengthened-in-christ/
LOCATION:Moxy Kuala Lumpur Chinatown\, Malaysia
CATEGORIES:Church Camp
ATTACH;FMTTYPE=image/jpeg:https://carmel.sg/wp-content/uploads/2025/11/Church-Camp-2026-5.jpg
END:VEVENT
END:VCALENDAR