BEGIN:VCALENDAR
VERSION:2.0
PRODID:-//Mount Carmel BP Church - ECPv6.15.17//NONSGML v1.0//EN
CALSCALE:GREGORIAN
METHOD:PUBLISH
X-ORIGINAL-URL:https://carmel.sg
X-WR-CALDESC:Events for Mount Carmel BP Church
REFRESH-INTERVAL;VALUE=DURATION:PT1H
X-Robots-Tag:noindex
X-PUBLISHED-TTL:PT1H
BEGIN:VTIMEZONE
TZID:Asia/Singapore
BEGIN:STANDARD
TZOFFSETFROM:+0800
TZOFFSETTO:+0800
TZNAME:+08
DTSTART:20240101T000000
END:STANDARD
END:VTIMEZONE
BEGIN:VEVENT
DTSTART;TZID=Asia/Singapore:20250504T140000
DTEND;TZID=Asia/Singapore:20250504T160000
DTSTAMP:20260422T055857
CREATED:20250217T035307Z
LAST-MODIFIED:20250303T045105Z
UID:10000417-1746367200-1746374400@carmel.sg
SUMMARY:Freedom In Christ
DESCRIPTION:Freedom in Christ (FIC) focuses on first establishing every Christian in our identity in Jesus\, giving you the tools to break free and stay free. \nIt a discipleship process to help us grow and experience the abundant life that Jesus talks about. \nCome join us on 9 March for a Freedom in Christ Introduction and Overview. \nRegister here \n  \n\nSeries Schedule\nIntroduction and Overview         \n9 March: Session 0 Why Believe The Bible? \nPart A – Key Truths \n16 March: Session 1 Who Am l? \n23 March: Session 2 Choosing To Believe The Truth \nPart B – The World\, The Flesh\, And The Devil     \n30 March: Session 3 The World’s View Of Truth \n6 April: Session 4 Our Daily Choice \n13 April: Session 5 The Battle For Our Minds \nPart C – Breaking The Hold Of The Past   \n27 April: Session 6 Handling Emotions Well \n4 May: Session 7 Forgiving From The Heart \n10 May: Workshop to Lead Participants through The STEPS To Freedom in Christ \n18 May: Session 8 Renewing The Mind \nPart D – Growing As Disciples   \n25 May: Session 9 Relating To Others \n1 June: Session 10 What Next? \n  \n\nFrequently Asked Questions \nQ1.      How long is the series? \nThe course starts on 9 Mar and ends on 1 Jun. 10 sessions are held in-person\, in church\, on Sundays\, 2pm – 4pm. 1 important session called The Steps to Freedom session will be held on 10 May\, a Saturday morning\, from 9am to almost 1pm. \nQ2.      What are the dates for the course?  \nThe schedule is posted above for your reference. But it is basically\, every Sunday afternoons. \nQ3.      Is the course for pre-believers\, new believers or those who have been Christians for a long time? \nEveryone! \nQ4.      How is each session conducted? \nIn each session\, participants will watch 3 videos produced by Steve Goss of the Freedom In Christ ministry based in UK. Between the videos\, there is ‘Pause for Thought’ segment for small group discussion. \nQ5.     What if my CG wants to do it? \nWe certainly welcome CGs to sign up together. \n\nIf you do\, within your CG\, you will form even smaller groups so that each person has time to share and learn from each other.\nYou are also free to form small groups with others outside of your CG.\n\nQ6.    Besides attending the sessions\, do I have to do ‘homework’? \nNope!  We do encourage you to reflect and pray about what you have learnt during the week. \nQ7. What happens when I miss certain Sunday sessions or the Saturday workshop? \nWe understand that it’s not easy to see that far ahead. We encourage you to register by faith and ask God to keep your schedule clear. We will be praying for you too! If you really have to miss a session\, please speak with Cynthia about it. \nQ8. Can I join halfway through the course? \nTo truly reap the benefits of this course\, we encourage you to come from start to end. You will find that it is more meaningful to be here in-person. \nQ9. What materials or books do I need? And how much is it? \nYes\, you need your own copy of the Participant’s Guide and the Steps to Freedom booklet. The total cost is $11 per set. \nQ10. If I have attended FIC before\, can I attend it again? Do I need to sign up or register since I do not need the participant’s guide?  \nYou are most welcome to attend again and again. In fact\, attending FIC on an annual basis is like having a good spiritual tune-up. Come! \nWhy still register?  Well\, the ministry team knows \n\nwho to pray for\,\nprepare sufficient materials\,\nand book an appropriate size space for all attendees.\n\nYou can indicate on the registration form that you do not need the FIC book. \nQ11. Finally\, is there a deadline for registration?  \nYes! It is March 9 after the Introduction session. Although we have a few copies\, we will need at least 1 week to buy books for all. Registration cost is $11 per pax. Exact change is much appreciated! See you soon!
URL:https://carmel.sg/event/freedom-in-christ/2025-05-04/
LOCATION:Clementi Bible Center\, Hope Sanctuary\, Level 2\, 152 West Coast Road\, 120370\, Singapore
CATEGORIES:Course,Rooted in Christ
ATTACH;FMTTYPE=image/jpeg:https://carmel.sg/wp-content/uploads/2025/02/FIC-1.jpg
END:VEVENT
BEGIN:VEVENT
DTSTART;VALUE=DATE:20250515
DTEND;VALUE=DATE:20250519
DTSTAMP:20260422T055857
CREATED:20250404T033003Z
LAST-MODIFIED:20250404T033003Z
UID:10000855-1747267200-1747612799@carmel.sg
SUMMARY:Young Adult Camp
DESCRIPTION:Calling all young adults! Join us for the “King of His Heart” Camp from May 15-18\, 2025\, at Changi Chalets\, Singapore! This camp will explore what it truly means to call Jesus ‘King’ today\, diving into insights from 1 Samuel and how it can inspire us to draw nearer to Jesus. Other than that\, look out for bonding time with fellow young adults as we indulge in God’s word together! So what are you waiting for? Sign up NOW! \nRegistration link: https://forms.gle/dAV2TvGZn5sNn9Wc6
URL:https://carmel.sg/event/young-adult-camp/
LOCATION:Changi Chalet\, Singapore
CATEGORIES:Young Adult Ministry
ATTACH;FMTTYPE=image/jpeg:https://carmel.sg/wp-content/uploads/2025/04/YAM-Camp.jpg
END:VEVENT
BEGIN:VEVENT
DTSTART;TZID=Asia/Singapore:20250517T090000
DTEND;TZID=Asia/Singapore:20250517T130000
DTSTAMP:20260422T055857
CREATED:20250217T035307Z
LAST-MODIFIED:20250303T045105Z
UID:10000409-1747472400-1747486800@carmel.sg
SUMMARY:Freedom In Christ
DESCRIPTION:Freedom in Christ (FIC) focuses on first establishing every Christian in our identity in Jesus\, giving you the tools to break free and stay free. \nIt a discipleship process to help us grow and experience the abundant life that Jesus talks about. \nCome join us on 9 March for a Freedom in Christ Introduction and Overview. \nRegister here \n  \n\nSeries Schedule\nIntroduction and Overview         \n9 March: Session 0 Why Believe The Bible? \nPart A – Key Truths \n16 March: Session 1 Who Am l? \n23 March: Session 2 Choosing To Believe The Truth \nPart B – The World\, The Flesh\, And The Devil     \n30 March: Session 3 The World’s View Of Truth \n6 April: Session 4 Our Daily Choice \n13 April: Session 5 The Battle For Our Minds \nPart C – Breaking The Hold Of The Past   \n27 April: Session 6 Handling Emotions Well \n4 May: Session 7 Forgiving From The Heart \n10 May: Workshop to Lead Participants through The STEPS To Freedom in Christ \n18 May: Session 8 Renewing The Mind \nPart D – Growing As Disciples   \n25 May: Session 9 Relating To Others \n1 June: Session 10 What Next? \n  \n\nFrequently Asked Questions \nQ1.      How long is the series? \nThe course starts on 9 Mar and ends on 1 Jun. 10 sessions are held in-person\, in church\, on Sundays\, 2pm – 4pm. 1 important session called The Steps to Freedom session will be held on 10 May\, a Saturday morning\, from 9am to almost 1pm. \nQ2.      What are the dates for the course?  \nThe schedule is posted above for your reference. But it is basically\, every Sunday afternoons. \nQ3.      Is the course for pre-believers\, new believers or those who have been Christians for a long time? \nEveryone! \nQ4.      How is each session conducted? \nIn each session\, participants will watch 3 videos produced by Steve Goss of the Freedom In Christ ministry based in UK. Between the videos\, there is ‘Pause for Thought’ segment for small group discussion. \nQ5.     What if my CG wants to do it? \nWe certainly welcome CGs to sign up together. \n\nIf you do\, within your CG\, you will form even smaller groups so that each person has time to share and learn from each other.\nYou are also free to form small groups with others outside of your CG.\n\nQ6.    Besides attending the sessions\, do I have to do ‘homework’? \nNope!  We do encourage you to reflect and pray about what you have learnt during the week. \nQ7. What happens when I miss certain Sunday sessions or the Saturday workshop? \nWe understand that it’s not easy to see that far ahead. We encourage you to register by faith and ask God to keep your schedule clear. We will be praying for you too! If you really have to miss a session\, please speak with Cynthia about it. \nQ8. Can I join halfway through the course? \nTo truly reap the benefits of this course\, we encourage you to come from start to end. You will find that it is more meaningful to be here in-person. \nQ9. What materials or books do I need? And how much is it? \nYes\, you need your own copy of the Participant’s Guide and the Steps to Freedom booklet. The total cost is $11 per set. \nQ10. If I have attended FIC before\, can I attend it again? Do I need to sign up or register since I do not need the participant’s guide?  \nYou are most welcome to attend again and again. In fact\, attending FIC on an annual basis is like having a good spiritual tune-up. Come! \nWhy still register?  Well\, the ministry team knows \n\nwho to pray for\,\nprepare sufficient materials\,\nand book an appropriate size space for all attendees.\n\nYou can indicate on the registration form that you do not need the FIC book. \nQ11. Finally\, is there a deadline for registration?  \nYes! It is March 9 after the Introduction session. Although we have a few copies\, we will need at least 1 week to buy books for all. Registration cost is $11 per pax. Exact change is much appreciated! See you soon!
URL:https://carmel.sg/event/freedom-in-christ/2025-05-17/
LOCATION:Clementi Bible Center\, Hope Sanctuary\, Level 2\, 152 West Coast Road\, 120370\, Singapore
CATEGORIES:Course,Rooted in Christ
ATTACH;FMTTYPE=image/jpeg:https://carmel.sg/wp-content/uploads/2025/02/FIC-1.jpg
END:VEVENT
BEGIN:VEVENT
DTSTART;TZID=Asia/Singapore:20250523T200000
DTEND;TZID=Asia/Singapore:20250523T220000
DTSTAMP:20260422T055857
CREATED:20250509T085810Z
LAST-MODIFIED:20250509T085810Z
UID:10000862-1748030400-1748037600@carmel.sg
SUMMARY:Prayer & Praise
DESCRIPTION:We nurture our relationship with Jesus in Word\, Spirit & Prayer! Come together on May 23 as a spiritual family to pray and praise our Lord! Let the Lord bind us together in love for Him and each other through prayer! \nDate: Friday\, 23 May\nTime: 8pm\nVenue: Hope Sanctuary
URL:https://carmel.sg/event/prayer-praise/
LOCATION:Clementi Bible Center\, Hope Sanctuary\, Level 2\, 152 West Coast Road\, 120370\, Singapore
CATEGORIES:Prayer & Praise
ATTACH;FMTTYPE=image/jpeg:https://carmel.sg/wp-content/uploads/2025/05/Slide1.jpg
END:VEVENT
BEGIN:VEVENT
DTSTART;TZID=Asia/Singapore:20250524T093000
DTEND;TZID=Asia/Singapore:20250524T113000
DTSTAMP:20260422T055857
CREATED:20250509T090113Z
LAST-MODIFIED:20250509T090113Z
UID:10000863-1748079000-1748086200@carmel.sg
SUMMARY:Befriending the Community Together
DESCRIPTION:Hearing the word befriending the community\, some may feel inadequate or fearful of the commitments entail. Rina\, who was given the opportunity to work with various communities over the past 10 years or so\, would say that it is a journey of discovering God\, self and friendship. Come check out her thoughts and experience this in a workshop organized by Carmel Men for Christ. No registration is required. \nDate: Saturday\, 24 May 2025\nTime: 9.30am – 11.30am\nVenue: #03-01
URL:https://carmel.sg/event/befriending-the-community-together/
LOCATION:Clementi Bible Center\, Room 03-01\, 152 West Coast Road\, 120370\, Singapore
CATEGORIES:Carmel Men for Christ,Community Services
ATTACH;FMTTYPE=image/jpeg:https://carmel.sg/wp-content/uploads/2025/05/Slide2.jpg
END:VEVENT
BEGIN:VEVENT
DTSTART;TZID=Asia/Singapore:20250525T100000
DTEND;TZID=Asia/Singapore:20250525T110000
DTSTAMP:20260422T055857
CREATED:20250503T025151Z
LAST-MODIFIED:20250524T110430Z
UID:10000860-1748167200-1748170800@carmel.sg
SUMMARY:Annual General Meeting (AGM) 2025
DESCRIPTION:Notice is hereby given that the Annual General Meeting (AGM) 2025 will be held on Sunday\, 25 May 2025 at 10.00 a.m. in the Hope Sanctuary\, Clementi Bible Centre. \nDate: Sunday\, 25 May 2025\nTime: 10.00 a.m.\nVenue: Hope Sanctuary\, Clementi Bible Centre \nAgenda:\n1. Determination of Quorum\n2. Scripture Reading and Prayer\n3. Passing of the 2025 ACM Minutes\n4. Passing of 2024 Directors’ Report and Audited Accounts\n5. Update on Phase 4A\n6. Q&A\n7. AOB \nImportant Notes:\n• A member of the Church may only vote by appointing the Chairman of the AGM (Chairman of the Board Of Elders\, Elder Kelvin Teo) as the member’s proxy to vote at the meeting. This is done by depositing with the Church an instrument of appointment\, also known as the Proxy Voting Form\, which has been embedded into the registration link below and enabled for only communicant members to vote. Upon submission\, the combined Registration and Proxy Voting Form will be automatically sent to church@carmel.sg \nhttps://form.jotform.com/mtcarmelsg/agm2025reg \n• A member can only vote at the AGM by submitting a completed Proxy Voting Form not later than 19 May 2025\, 2359 hrs.\n• Members who do not have an email will receive the Registration/ Proxy Voting Form by post\, and will have to mail the completed form back to: AGM Secretariat\, Mount Carmel BP Church\, Clementi Bible Centre\, 152 West Coast Road\, Singapore 127370. It must reach the church office not later than 19 May 2025\, 2359 hrs.\n• Members who require assistance with online registration and voting should contact the church office at 6779 5077 or church@carmel.sg\n• After the Proxy Voting Forms are submitted and counted\, the Chairman will announce the results during the AGM. \nQuestions\n• Questions relating to the agenda will be addressed by the Church leadership in-person at the AGM. To provide sufficient time for a response to be prepared\, we would be grateful if you could please provide your questions by email to church@carmel.sg by no later than 19 May 2025.\nPrivacy Assurance Statement\nPlease be advised that the proxy form voting system\, as prescribed by law\, is an open voting system. We understand that members may have concerns about the secrecy of their votes cast at the forthcoming AGM. Secretariat will ensure that the secrecy of members’ votes will be preserved and secured to the fullest extent possible. \nAGM Documents \n1) 2025 ACM Minutes of Meeting\n2) 2024 Directors’ Report and Audited Accounts\n3) Financial Graphics
URL:https://carmel.sg/event/annual-general-meeting-agm-2025/
LOCATION:Clementi Bible Center\, Hope Sanctuary\, Level 2\, 152 West Coast Road\, 120370\, Singapore
CATEGORIES:AGM
ATTACH;FMTTYPE=image/jpeg:https://carmel.sg/wp-content/uploads/2025/04/AGM-2025-Presentation.jpg
END:VEVENT
BEGIN:VEVENT
DTSTART;TZID=Asia/Singapore:20250525T140000
DTEND;TZID=Asia/Singapore:20250525T160000
DTSTAMP:20260422T055857
CREATED:20250217T035307Z
LAST-MODIFIED:20250303T045105Z
UID:10000406-1748181600-1748188800@carmel.sg
SUMMARY:Freedom In Christ
DESCRIPTION:Freedom in Christ (FIC) focuses on first establishing every Christian in our identity in Jesus\, giving you the tools to break free and stay free. \nIt a discipleship process to help us grow and experience the abundant life that Jesus talks about. \nCome join us on 9 March for a Freedom in Christ Introduction and Overview. \nRegister here \n  \n\nSeries Schedule\nIntroduction and Overview         \n9 March: Session 0 Why Believe The Bible? \nPart A – Key Truths \n16 March: Session 1 Who Am l? \n23 March: Session 2 Choosing To Believe The Truth \nPart B – The World\, The Flesh\, And The Devil     \n30 March: Session 3 The World’s View Of Truth \n6 April: Session 4 Our Daily Choice \n13 April: Session 5 The Battle For Our Minds \nPart C – Breaking The Hold Of The Past   \n27 April: Session 6 Handling Emotions Well \n4 May: Session 7 Forgiving From The Heart \n10 May: Workshop to Lead Participants through The STEPS To Freedom in Christ \n18 May: Session 8 Renewing The Mind \nPart D – Growing As Disciples   \n25 May: Session 9 Relating To Others \n1 June: Session 10 What Next? \n  \n\nFrequently Asked Questions \nQ1.      How long is the series? \nThe course starts on 9 Mar and ends on 1 Jun. 10 sessions are held in-person\, in church\, on Sundays\, 2pm – 4pm. 1 important session called The Steps to Freedom session will be held on 10 May\, a Saturday morning\, from 9am to almost 1pm. \nQ2.      What are the dates for the course?  \nThe schedule is posted above for your reference. But it is basically\, every Sunday afternoons. \nQ3.      Is the course for pre-believers\, new believers or those who have been Christians for a long time? \nEveryone! \nQ4.      How is each session conducted? \nIn each session\, participants will watch 3 videos produced by Steve Goss of the Freedom In Christ ministry based in UK. Between the videos\, there is ‘Pause for Thought’ segment for small group discussion. \nQ5.     What if my CG wants to do it? \nWe certainly welcome CGs to sign up together. \n\nIf you do\, within your CG\, you will form even smaller groups so that each person has time to share and learn from each other.\nYou are also free to form small groups with others outside of your CG.\n\nQ6.    Besides attending the sessions\, do I have to do ‘homework’? \nNope!  We do encourage you to reflect and pray about what you have learnt during the week. \nQ7. What happens when I miss certain Sunday sessions or the Saturday workshop? \nWe understand that it’s not easy to see that far ahead. We encourage you to register by faith and ask God to keep your schedule clear. We will be praying for you too! If you really have to miss a session\, please speak with Cynthia about it. \nQ8. Can I join halfway through the course? \nTo truly reap the benefits of this course\, we encourage you to come from start to end. You will find that it is more meaningful to be here in-person. \nQ9. What materials or books do I need? And how much is it? \nYes\, you need your own copy of the Participant’s Guide and the Steps to Freedom booklet. The total cost is $11 per set. \nQ10. If I have attended FIC before\, can I attend it again? Do I need to sign up or register since I do not need the participant’s guide?  \nYou are most welcome to attend again and again. In fact\, attending FIC on an annual basis is like having a good spiritual tune-up. Come! \nWhy still register?  Well\, the ministry team knows \n\nwho to pray for\,\nprepare sufficient materials\,\nand book an appropriate size space for all attendees.\n\nYou can indicate on the registration form that you do not need the FIC book. \nQ11. Finally\, is there a deadline for registration?  \nYes! It is March 9 after the Introduction session. Although we have a few copies\, we will need at least 1 week to buy books for all. Registration cost is $11 per pax. Exact change is much appreciated! See you soon!
URL:https://carmel.sg/event/freedom-in-christ/2025-05-25/
LOCATION:Clementi Bible Center\, Hope Sanctuary\, Level 2\, 152 West Coast Road\, 120370\, Singapore
CATEGORIES:Course,Rooted in Christ
ATTACH;FMTTYPE=image/jpeg:https://carmel.sg/wp-content/uploads/2025/02/FIC-1.jpg
END:VEVENT
END:VCALENDAR