BEGIN:VCALENDAR
VERSION:2.0
PRODID:-//Mount Carmel BP Church - ECPv6.15.17//NONSGML v1.0//EN
CALSCALE:GREGORIAN
METHOD:PUBLISH
X-ORIGINAL-URL:https://carmel.sg
X-WR-CALDESC:Events for Mount Carmel BP Church
REFRESH-INTERVAL;VALUE=DURATION:PT1H
X-Robots-Tag:noindex
X-PUBLISHED-TTL:PT1H
BEGIN:VTIMEZONE
TZID:Asia/Singapore
BEGIN:STANDARD
TZOFFSETFROM:+0800
TZOFFSETTO:+0800
TZNAME:+08
DTSTART:20230101T000000
END:STANDARD
END:VTIMEZONE
BEGIN:VEVENT
DTSTART;TZID=Asia/Singapore:20241102T090000
DTEND;TZID=Asia/Singapore:20241102T123000
DTSTAMP:20260422T112805
CREATED:20240724T170747Z
LAST-MODIFIED:20240815T164025Z
UID:10000301-1730538000-1730550600@carmel.sg
SUMMARY:Hearing God Workship Series
DESCRIPTION:Hearing God series: Discerning God’s voice in Word\, Spirit and Prayer \nHow is your spiritual walk with Jesus? Are you wondering how to have Jesus as the center of your life? Come and learn what it means to discern the voice of God in Word\, Spirit and Prayer. \nYour commitment for the entire series is required as this is a sequential learning process. \nRegister: https://bit.ly/HGWS
URL:https://carmel.sg/event/hearing-god-series/2024-11-02/
LOCATION:Clementi Bible Center\, Chapel\, Level 2\, 152 West Coast Road\, 120370\, Singapore
CATEGORIES:Course
ATTACH;FMTTYPE=image/jpeg:https://carmel.sg/wp-content/uploads/2024/07/Website-Cover-4.jpg
END:VEVENT
BEGIN:VEVENT
DTSTART;TZID=Asia/Singapore:20241102T140000
DTEND;TZID=Asia/Singapore:20241102T161500
DTSTAMP:20260422T112805
CREATED:20240816T024332Z
LAST-MODIFIED:20240816T024332Z
UID:10000314-1730556000-1730564100@carmel.sg
SUMMARY:Bysid Course
DESCRIPTION:Are you dating someone at the moment? Why not strengthen your relationship further? We invite you to the BYSID course. BYSID helps couples to grow in all areas of relationship. This BYSID course combines tools\, knowledge and experiential times which are essential as you grow in your relationship.  Those of us who are couples planning to get married\, please note: it is a requirement to attend BYSID course. We are starting soon in September.  \nSign up to access more details: https://tinyurl.com/Bysid24 \n  \n​
URL:https://carmel.sg/event/bysid-course/2024-11-02/
LOCATION:Clementi Bible Center\, Hive\, Room 02-13\, 152 West Coast Road\, 120370\, Singapore
CATEGORIES:Course
ATTACH;FMTTYPE=image/jpeg:https://carmel.sg/wp-content/uploads/2024/08/Bysid-Course-for-website.jpg
END:VEVENT
BEGIN:VEVENT
DTSTART;TZID=Asia/Singapore:20241103T013000
DTEND;TZID=Asia/Singapore:20241103T023000
DTSTAMP:20260422T112805
CREATED:20240724T174355Z
LAST-MODIFIED:20240904T094726Z
UID:10000124-1730597400-1730601000@carmel.sg
SUMMARY:Christmas Catechism Class
DESCRIPTION:When you believe in Jesus Christ as your Lord and Saviour\, how do you continue to grow spiritually? Sealing your faith through baptism is an outward expression of your internal conviction that Jesus Christ is King. Grow in the Lord by anchoring yourself in Kingdom truths together with the local community of faith. \n\nTopics covered over 10 weeks: \n\n\n\n\nScripture\, Tradition and Biblical Interpretation\n\n\n\nGod the Father I: The Attributes and Character of God\n\n\n\nGod the Father II: God\, Creation and Humanity (From Creation to Fall to Israel)\n\n\n\nGod the Spirit: The Holy Spirit’s Work of Salvation and Sanctification\n\n\n\nGod the Son I: Christ’s Divinity and Humanity (Christology)\n\n\n\nGod the Son II: Christ’s Work of Salvation\n\n\n\nThe Church and Sacraments (Baptism and Communion)\n\n\n\nThe Age of the Church and Christ’s Second Coming\n\n\n\nMount Carmel’s History\, Vision and Mission (includes a Field trip to where Mount Carmel Bible-Prebyterian Church first started)\n\n\n\nChurch Membership\n\nRegistration here.
URL:https://carmel.sg/event/christmas-catechism-class/2024-11-03/
LOCATION:Clementi Bible Centre\, 152 West Coast Road\, 127370\, Singapore
CATEGORIES:Course
ATTACH;FMTTYPE=image/jpeg:https://carmel.sg/wp-content/uploads/2024/07/All-Baptism-Announcements.jpg
END:VEVENT
BEGIN:VEVENT
DTSTART;VALUE=DATE:20241108
DTEND;VALUE=DATE:20241111
DTSTAMP:20260422T112805
CREATED:20240712T021415Z
LAST-MODIFIED:20240724T131721Z
UID:10000008-1731024000-1731283199@carmel.sg
SUMMARY:CMfC Retreat
DESCRIPTION:Towards the end of His earthly ministry\, Jesus told his small band of disciples\, “No longer do I call you servants… but I have called you friends….” (John‬ ‭15‬:‭15‬)‬‬. \nHow did Jesus model friendship for them? What can we learn from our Lord on the value\, nurture and cost of friendship? \nJoin the CMfC Retreat to learn how to apply these lessons to friendship among men\, between husband and wife\, and with each other. \nSpeaker: Rev David Wong \nRegister
URL:https://carmel.sg/event/cmfc-retreat/
LOCATION:Le Grandeur Palm Resort Johor
CATEGORIES:Carmel Men for Christ
ATTACH;FMTTYPE=image/jpeg:https://carmel.sg/wp-content/uploads/2024/07/CMFC-RETREAT-Ad2.jpg
END:VEVENT
BEGIN:VEVENT
DTSTART;TZID=Asia/Singapore:20241109T083000
DTEND;TZID=Asia/Singapore:20241109T103000
DTSTAMP:20260422T112805
CREATED:20241025T094446Z
LAST-MODIFIED:20241101T095116Z
UID:10000358-1731141000-1731148200@carmel.sg
SUMMARY:Ladies Walk & Talk
DESCRIPTION:It is time to slow down! The Ladies Ministry is organising a contemplative walk open to all ladies in Carmel\, taking place in West Coast Park on the morning of 9th November from 8.30 to 10.30 am. The walk focuses on solitude and prayerful conversations with God in the midst of His creation\, building appreciation and awareness of God’s presence with each person. This Contemplative Walk itself is slow\, pausing to use all our senses to see\, hear\, feel\, touch and taste God’s creation. Facilitation and reflective questions will be provided. Do sign up\, and for access to a phone number for any enquiries. The walk is open to all ladies of all ages\, and you are free to bring a friend.  \n​
URL:https://carmel.sg/event/ladies-walk-talk/
CATEGORIES:Ladies
ATTACH;FMTTYPE=image/jpeg:https://carmel.sg/wp-content/uploads/2024/10/Slide11.jpg
END:VEVENT
BEGIN:VEVENT
DTSTART;TZID=Asia/Singapore:20241110T013000
DTEND;TZID=Asia/Singapore:20241110T023000
DTSTAMP:20260422T112805
CREATED:20240724T174355Z
LAST-MODIFIED:20240904T094726Z
UID:10000125-1731202200-1731205800@carmel.sg
SUMMARY:Christmas Catechism Class
DESCRIPTION:When you believe in Jesus Christ as your Lord and Saviour\, how do you continue to grow spiritually? Sealing your faith through baptism is an outward expression of your internal conviction that Jesus Christ is King. Grow in the Lord by anchoring yourself in Kingdom truths together with the local community of faith. \n\nTopics covered over 10 weeks: \n\n\n\n\nScripture\, Tradition and Biblical Interpretation\n\n\n\nGod the Father I: The Attributes and Character of God\n\n\n\nGod the Father II: God\, Creation and Humanity (From Creation to Fall to Israel)\n\n\n\nGod the Spirit: The Holy Spirit’s Work of Salvation and Sanctification\n\n\n\nGod the Son I: Christ’s Divinity and Humanity (Christology)\n\n\n\nGod the Son II: Christ’s Work of Salvation\n\n\n\nThe Church and Sacraments (Baptism and Communion)\n\n\n\nThe Age of the Church and Christ’s Second Coming\n\n\n\nMount Carmel’s History\, Vision and Mission (includes a Field trip to where Mount Carmel Bible-Prebyterian Church first started)\n\n\n\nChurch Membership\n\nRegistration here.
URL:https://carmel.sg/event/christmas-catechism-class/2024-11-10/
LOCATION:Clementi Bible Centre\, 152 West Coast Road\, 127370\, Singapore
CATEGORIES:Course
ATTACH;FMTTYPE=image/jpeg:https://carmel.sg/wp-content/uploads/2024/07/All-Baptism-Announcements.jpg
END:VEVENT
BEGIN:VEVENT
DTSTART;TZID=Asia/Singapore:20241110T123000
DTEND;TZID=Asia/Singapore:20241110T140000
DTSTAMP:20260422T112805
CREATED:20241010T164113Z
LAST-MODIFIED:20241010T164113Z
UID:10000357-1731241800-1731247200@carmel.sg
SUMMARY:Stir Each Other Up
DESCRIPTION:Volunteers from Community Service are gathering to share their reflections and experience in serving the needy. \nIf you have ever wondered what is taking place there\, and want to know what’s the serving opportunities\, why not let their stories of love and good work stir up your hearts over a lunch gathering. \nSign up here before 1 November.
URL:https://carmel.sg/event/stir-each-other-up/
LOCATION:Clementi Bible Center\, Faith Hall Level 1\, 152 West Coast Road\, 120370\, Singapore
CATEGORIES:Community Services
ATTACH;FMTTYPE=image/png:https://carmel.sg/wp-content/uploads/2024/10/Picture1.png
END:VEVENT
BEGIN:VEVENT
DTSTART;TZID=Asia/Singapore:20241116T103000
DTEND;TZID=Asia/Singapore:20241116T130000
DTSTAMP:20260422T112805
CREATED:20241025T095141Z
LAST-MODIFIED:20241101T094923Z
UID:10000359-1731753000-1731762000@carmel.sg
SUMMARY:Oasis Celebrating Community
DESCRIPTION:Oasis is organising a talk by Ps Liang Wei. Topic of talk is on Building the Christian Community.  \nDate: 16 November 2024\nTime: 10.30am\nVenue： Hope Sanctuary \nLunch is provided. Please register early. \n​
URL:https://carmel.sg/event/oasis-celebrating-community/
CATEGORIES:Oasis
ATTACH;FMTTYPE=image/jpeg:https://carmel.sg/wp-content/uploads/2024/10/Slide21.jpg
END:VEVENT
BEGIN:VEVENT
DTSTART;TZID=Asia/Singapore:20241117T013000
DTEND;TZID=Asia/Singapore:20241117T023000
DTSTAMP:20260422T112805
CREATED:20240724T174355Z
LAST-MODIFIED:20240904T094726Z
UID:10000126-1731807000-1731810600@carmel.sg
SUMMARY:Christmas Catechism Class
DESCRIPTION:When you believe in Jesus Christ as your Lord and Saviour\, how do you continue to grow spiritually? Sealing your faith through baptism is an outward expression of your internal conviction that Jesus Christ is King. Grow in the Lord by anchoring yourself in Kingdom truths together with the local community of faith. \n\nTopics covered over 10 weeks: \n\n\n\n\nScripture\, Tradition and Biblical Interpretation\n\n\n\nGod the Father I: The Attributes and Character of God\n\n\n\nGod the Father II: God\, Creation and Humanity (From Creation to Fall to Israel)\n\n\n\nGod the Spirit: The Holy Spirit’s Work of Salvation and Sanctification\n\n\n\nGod the Son I: Christ’s Divinity and Humanity (Christology)\n\n\n\nGod the Son II: Christ’s Work of Salvation\n\n\n\nThe Church and Sacraments (Baptism and Communion)\n\n\n\nThe Age of the Church and Christ’s Second Coming\n\n\n\nMount Carmel’s History\, Vision and Mission (includes a Field trip to where Mount Carmel Bible-Prebyterian Church first started)\n\n\n\nChurch Membership\n\nRegistration here.
URL:https://carmel.sg/event/christmas-catechism-class/2024-11-17/
LOCATION:Clementi Bible Centre\, 152 West Coast Road\, 127370\, Singapore
CATEGORIES:Course
ATTACH;FMTTYPE=image/jpeg:https://carmel.sg/wp-content/uploads/2024/07/All-Baptism-Announcements.jpg
END:VEVENT
BEGIN:VEVENT
DTSTART;TZID=Asia/Singapore:20241124T013000
DTEND;TZID=Asia/Singapore:20241124T023000
DTSTAMP:20260422T112805
CREATED:20240724T174355Z
LAST-MODIFIED:20240904T094726Z
UID:10000127-1732411800-1732415400@carmel.sg
SUMMARY:Christmas Catechism Class
DESCRIPTION:When you believe in Jesus Christ as your Lord and Saviour\, how do you continue to grow spiritually? Sealing your faith through baptism is an outward expression of your internal conviction that Jesus Christ is King. Grow in the Lord by anchoring yourself in Kingdom truths together with the local community of faith. \n\nTopics covered over 10 weeks: \n\n\n\n\nScripture\, Tradition and Biblical Interpretation\n\n\n\nGod the Father I: The Attributes and Character of God\n\n\n\nGod the Father II: God\, Creation and Humanity (From Creation to Fall to Israel)\n\n\n\nGod the Spirit: The Holy Spirit’s Work of Salvation and Sanctification\n\n\n\nGod the Son I: Christ’s Divinity and Humanity (Christology)\n\n\n\nGod the Son II: Christ’s Work of Salvation\n\n\n\nThe Church and Sacraments (Baptism and Communion)\n\n\n\nThe Age of the Church and Christ’s Second Coming\n\n\n\nMount Carmel’s History\, Vision and Mission (includes a Field trip to where Mount Carmel Bible-Prebyterian Church first started)\n\n\n\nChurch Membership\n\nRegistration here.
URL:https://carmel.sg/event/christmas-catechism-class/2024-11-24/
LOCATION:Clementi Bible Centre\, 152 West Coast Road\, 127370\, Singapore
CATEGORIES:Course
ATTACH;FMTTYPE=image/jpeg:https://carmel.sg/wp-content/uploads/2024/07/All-Baptism-Announcements.jpg
END:VEVENT
END:VCALENDAR