BEGIN:VCALENDAR
VERSION:2.0
PRODID:-//Mount Carmel BP Church - ECPv6.15.17//NONSGML v1.0//EN
CALSCALE:GREGORIAN
METHOD:PUBLISH
X-WR-CALNAME:Mount Carmel BP Church
X-ORIGINAL-URL:https://carmel.sg
X-WR-CALDESC:Events for Mount Carmel BP Church
REFRESH-INTERVAL;VALUE=DURATION:PT1H
X-Robots-Tag:noindex
X-PUBLISHED-TTL:PT1H
BEGIN:VTIMEZONE
TZID:Asia/Singapore
BEGIN:STANDARD
TZOFFSETFROM:+0800
TZOFFSETTO:+0800
TZNAME:+08
DTSTART:20230101T000000
END:STANDARD
END:VTIMEZONE
BEGIN:VEVENT
DTSTART;TZID=Asia/Singapore:20240905T190000
DTEND;TZID=Asia/Singapore:20240905T210000
DTSTAMP:20260422T150054
CREATED:20240724T164457Z
LAST-MODIFIED:20240812T044954Z
UID:10000307-1725562800-1725570000@carmel.sg
SUMMARY:Alpha
DESCRIPTION:The Alpha Course introduces Christianity to those who are curious or keen to learn more about the faith. Alpha is for everyone. It is a safe place for you to unreservedly ask any questions you may have! Starting 16 August 2024. Join us for dinner and have deep and meaningful discussions about life’s purpose in a safe and open environment. Register: https://bit.ly/3WwUDf5  
URL:https://carmel.sg/event/alpha-2/2024-09-05/
LOCATION:Clementi Bible Center\, Room 03-01\, 152 West Coast Road\, 120370\, Singapore
CATEGORIES:Course,Evangelism
ATTACH;FMTTYPE=image/jpeg:https://carmel.sg/wp-content/uploads/2024/07/Copy-of-Evangelism-Training-1-2.jpg
END:VEVENT
BEGIN:VEVENT
DTSTART;TZID=Asia/Singapore:20240906T190000
DTEND;TZID=Asia/Singapore:20240906T210000
DTSTAMP:20260422T150054
CREATED:20240722T155650Z
LAST-MODIFIED:20240724T164630Z
UID:10000015-1725649200-1725656400@carmel.sg
SUMMARY:Alpha
DESCRIPTION:The Alpha Course introduces Christianity to those who are curious or keen to learn more about the faith. Alpha is for everyone. It is a safe place for you to unreservedly ask any questions you may have! Starting 16 August 2024. Join us for dinner and have deep and meaningful discussions about life’s purpose in a safe and open environment. Register: https://bit.ly/3WwUDf5  
URL:https://carmel.sg/event/alpha/2024-09-06/
LOCATION:Clementi Bible Center\, Room 03-07\, 152 West Coast Road\, 120370\, Singapore
CATEGORIES:Course,Evangelism
ATTACH;FMTTYPE=image/jpeg:https://carmel.sg/wp-content/uploads/2024/07/Copy-of-Evangelism-Training-1-2.jpg
END:VEVENT
BEGIN:VEVENT
DTSTART;TZID=Asia/Singapore:20240913T190000
DTEND;TZID=Asia/Singapore:20240913T210000
DTSTAMP:20260422T150054
CREATED:20240722T155650Z
LAST-MODIFIED:20240724T164630Z
UID:10000016-1726254000-1726261200@carmel.sg
SUMMARY:Alpha
DESCRIPTION:The Alpha Course introduces Christianity to those who are curious or keen to learn more about the faith. Alpha is for everyone. It is a safe place for you to unreservedly ask any questions you may have! Starting 16 August 2024. Join us for dinner and have deep and meaningful discussions about life’s purpose in a safe and open environment. Register: https://bit.ly/3WwUDf5  
URL:https://carmel.sg/event/alpha/2024-09-13/
LOCATION:Clementi Bible Center\, Room 03-07\, 152 West Coast Road\, 120370\, Singapore
CATEGORIES:Course,Evangelism
ATTACH;FMTTYPE=image/jpeg:https://carmel.sg/wp-content/uploads/2024/07/Copy-of-Evangelism-Training-1-2.jpg
END:VEVENT
BEGIN:VEVENT
DTSTART;TZID=Asia/Singapore:20240915T131500
DTEND;TZID=Asia/Singapore:20240915T151500
DTSTAMP:20260422T150054
CREATED:20240905T035449Z
LAST-MODIFIED:20240905T035449Z
UID:10000316-1726406100-1726413300@carmel.sg
SUMMARY:Understanding Advance Care Planning & Lasting Power of Attorney
DESCRIPTION:You know of Lasting Power of Attorney (LPA) or have even made one already. What about Advance Care Planning ACP) What is it? What’s the difference between ACP and LPA? Why do I need both? \nMr Andy Sim will help you understand the importance of planning for your future health\, personal care\, welfare and/or property & affairs matters. \nAndy is a Master Medical Social Worker (Clinical Educator) with the Department of Medical Social Services in Singapore General Hospital (SGH). He is a certified trainer for the national advance care planning facilitator workshop and works in various ACP steering committees.
URL:https://carmel.sg/event/understanding-advance-care-planning-lasting-power-of-attorney/
LOCATION:Clementi Bible Center\, Hope Sanctuary\, Level 2\, 152 West Coast Road\, 120370\, Singapore
CATEGORIES:Talk
ATTACH;FMTTYPE=image/jpeg:https://carmel.sg/wp-content/uploads/2024/09/1725328867955-8cea220c-113f-4d5e-ac93-86e7be69f528_1.jpg
END:VEVENT
BEGIN:VEVENT
DTSTART;TZID=Asia/Singapore:20240920T074500
DTEND;TZID=Asia/Singapore:20240921T160000
DTSTAMP:20260422T150054
CREATED:20240815T155951Z
LAST-MODIFIED:20240815T160230Z
UID:10000308-1726818300-1726934400@carmel.sg
SUMMARY:Set Free Weekend
DESCRIPTION:Do you long to for your burdens to be lifted? Don’t know how?  \nCome to Jesus! At this weekend\, we will guide you through the process to be Set Free.   \nCome as often as you like but do register!​
URL:https://carmel.sg/event/set-free-weekend/
LOCATION:Clementi Bible Center\, Chapel\, Level 2\, 152 West Coast Road\, 120370\, Singapore
CATEGORIES:Course
ATTACH;FMTTYPE=image/jpeg:https://carmel.sg/wp-content/uploads/2024/08/Telegram.jpg
END:VEVENT
BEGIN:VEVENT
DTSTART;TZID=Asia/Singapore:20240920T190000
DTEND;TZID=Asia/Singapore:20240920T210000
DTSTAMP:20260422T150054
CREATED:20240722T155650Z
LAST-MODIFIED:20240724T164630Z
UID:10000017-1726858800-1726866000@carmel.sg
SUMMARY:Alpha
DESCRIPTION:The Alpha Course introduces Christianity to those who are curious or keen to learn more about the faith. Alpha is for everyone. It is a safe place for you to unreservedly ask any questions you may have! Starting 16 August 2024. Join us for dinner and have deep and meaningful discussions about life’s purpose in a safe and open environment. Register: https://bit.ly/3WwUDf5  
URL:https://carmel.sg/event/alpha/2024-09-20/
LOCATION:Clementi Bible Center\, Room 03-07\, 152 West Coast Road\, 120370\, Singapore
CATEGORIES:Course,Evangelism
ATTACH;FMTTYPE=image/jpeg:https://carmel.sg/wp-content/uploads/2024/07/Copy-of-Evangelism-Training-1-2.jpg
END:VEVENT
BEGIN:VEVENT
DTSTART;TZID=Asia/Singapore:20240922T013000
DTEND;TZID=Asia/Singapore:20240922T023000
DTSTAMP:20260422T150054
CREATED:20240724T174355Z
LAST-MODIFIED:20240904T094726Z
UID:10000315-1726968600-1726972200@carmel.sg
SUMMARY:Christmas Catechism Class
DESCRIPTION:When you believe in Jesus Christ as your Lord and Saviour\, how do you continue to grow spiritually? Sealing your faith through baptism is an outward expression of your internal conviction that Jesus Christ is King. Grow in the Lord by anchoring yourself in Kingdom truths together with the local community of faith. \n\nTopics covered over 10 weeks: \n\n\n\n\nScripture\, Tradition and Biblical Interpretation\n\n\n\nGod the Father I: The Attributes and Character of God\n\n\n\nGod the Father II: God\, Creation and Humanity (From Creation to Fall to Israel)\n\n\n\nGod the Spirit: The Holy Spirit’s Work of Salvation and Sanctification\n\n\n\nGod the Son I: Christ’s Divinity and Humanity (Christology)\n\n\n\nGod the Son II: Christ’s Work of Salvation\n\n\n\nThe Church and Sacraments (Baptism and Communion)\n\n\n\nThe Age of the Church and Christ’s Second Coming\n\n\n\nMount Carmel’s History\, Vision and Mission (includes a Field trip to where Mount Carmel Bible-Prebyterian Church first started)\n\n\n\nChurch Membership\n\nRegistration here.
URL:https://carmel.sg/event/christmas-catechism-class/2024-09-22/
LOCATION:Clementi Bible Centre\, 152 West Coast Road\, 127370\, Singapore
CATEGORIES:Course
ATTACH;FMTTYPE=image/jpeg:https://carmel.sg/wp-content/uploads/2024/07/All-Baptism-Announcements.jpg
END:VEVENT
BEGIN:VEVENT
DTSTART;TZID=Asia/Singapore:20240927T190000
DTEND;TZID=Asia/Singapore:20240927T210000
DTSTAMP:20260422T150054
CREATED:20240722T155650Z
LAST-MODIFIED:20240724T164630Z
UID:10000018-1727463600-1727470800@carmel.sg
SUMMARY:Alpha
DESCRIPTION:The Alpha Course introduces Christianity to those who are curious or keen to learn more about the faith. Alpha is for everyone. It is a safe place for you to unreservedly ask any questions you may have! Starting 16 August 2024. Join us for dinner and have deep and meaningful discussions about life’s purpose in a safe and open environment. Register: https://bit.ly/3WwUDf5  
URL:https://carmel.sg/event/alpha/2024-09-27/
LOCATION:Clementi Bible Center\, Room 03-07\, 152 West Coast Road\, 120370\, Singapore
CATEGORIES:Course,Evangelism
ATTACH;FMTTYPE=image/jpeg:https://carmel.sg/wp-content/uploads/2024/07/Copy-of-Evangelism-Training-1-2.jpg
END:VEVENT
BEGIN:VEVENT
DTSTART;TZID=Asia/Singapore:20240928T090000
DTEND;TZID=Asia/Singapore:20240928T123000
DTSTAMP:20260422T150054
CREATED:20240724T170747Z
LAST-MODIFIED:20240815T164025Z
UID:10000078-1727514000-1727526600@carmel.sg
SUMMARY:Hearing God Workship Series
DESCRIPTION:Hearing God series: Discerning God’s voice in Word\, Spirit and Prayer \nHow is your spiritual walk with Jesus? Are you wondering how to have Jesus as the center of your life? Come and learn what it means to discern the voice of God in Word\, Spirit and Prayer. \nYour commitment for the entire series is required as this is a sequential learning process. \nRegister: https://bit.ly/HGWS
URL:https://carmel.sg/event/hearing-god-series/2024-09-28/
LOCATION:Clementi Bible Center\, Chapel\, Level 2\, 152 West Coast Road\, 120370\, Singapore
CATEGORIES:Course
ATTACH;FMTTYPE=image/jpeg:https://carmel.sg/wp-content/uploads/2024/07/Website-Cover-4.jpg
END:VEVENT
BEGIN:VEVENT
DTSTART;TZID=Asia/Singapore:20240928T093000
DTEND;TZID=Asia/Singapore:20240928T113000
DTSTAMP:20260422T150054
CREATED:20240919T151150Z
LAST-MODIFIED:20240919T151817Z
UID:10000317-1727515800-1727523000@carmel.sg
SUMMARY:A Manhood Journey
DESCRIPTION:What does it take for us to become the men God intended us to be? \nWe believe it requires men to know whose they are\, what they are to do\, how they are to live\, and that they can’t do it alone. \n“A Manhood Journey” is a Man Ministry Network series led by 4 spiritual leaders covering key aspects of our manhood with regard to our identity\, responsibility\, integrity and community. \nWe welcome every Carmelite brother to join us for Session 4 – A Man’s Community (video) by Rev Lek Yong Teck\, with breakfast starting at 9.30 am. \nAs each session can be a stand-alone. All are welcome to join in\, even if you may not have joined us for previous sessions. \nRegister: bit.ly/CMFC28Sep24 \n  \n 
URL:https://carmel.sg/event/a-manhood-journey/
LOCATION:Clementi Bible Center\, Room 03-01\, 152 West Coast Road\, 120370\, Singapore
ATTACH;FMTTYPE=image/jpeg:https://carmel.sg/wp-content/uploads/2024/09/Church-Website-Templates-AnnouncementsEvents-11.jpg
END:VEVENT
BEGIN:VEVENT
DTSTART;TZID=Asia/Singapore:20240928T140000
DTEND;TZID=Asia/Singapore:20240928T161500
DTSTAMP:20260422T150054
CREATED:20240816T024332Z
LAST-MODIFIED:20240816T024332Z
UID:10000309-1727532000-1727540100@carmel.sg
SUMMARY:Bysid Course
DESCRIPTION:Are you dating someone at the moment? Why not strengthen your relationship further? We invite you to the BYSID course. BYSID helps couples to grow in all areas of relationship. This BYSID course combines tools\, knowledge and experiential times which are essential as you grow in your relationship.  Those of us who are couples planning to get married\, please note: it is a requirement to attend BYSID course. We are starting soon in September.  \nSign up to access more details: https://tinyurl.com/Bysid24 \n  \n​
URL:https://carmel.sg/event/bysid-course/2024-09-28/
LOCATION:Clementi Bible Center\, Hive\, Room 02-13\, 152 West Coast Road\, 120370\, Singapore
CATEGORIES:Course
ATTACH;FMTTYPE=image/jpeg:https://carmel.sg/wp-content/uploads/2024/08/Bysid-Course-for-website.jpg
END:VEVENT
BEGIN:VEVENT
DTSTART;TZID=Asia/Singapore:20240928T190000
DTEND;TZID=Asia/Singapore:20240928T200000
DTSTAMP:20260422T150054
CREATED:20240919T170927Z
LAST-MODIFIED:20240923T035738Z
UID:10000354-1727550000-1727553600@carmel.sg
SUMMARY:Newcomer Meal
DESCRIPTION:We welcome all who are new to Mount Carmel to come join us for a meal after service. We love to meet with you all.
URL:https://carmel.sg/event/newcomer-meal/2024-09-28/
LOCATION:Clementi Bible Center\, Hive\, Room 02-13\, 152 West Coast Road\, 120370\, Singapore
ATTACH;FMTTYPE=image/jpeg:https://carmel.sg/wp-content/uploads/2024/09/photo_2024-09-20_01-10-18.jpg
END:VEVENT
BEGIN:VEVENT
DTSTART;TZID=Asia/Singapore:20240929T013000
DTEND;TZID=Asia/Singapore:20240929T023000
DTSTAMP:20260422T150054
CREATED:20240724T174355Z
LAST-MODIFIED:20240904T094726Z
UID:10000119-1727573400-1727577000@carmel.sg
SUMMARY:Christmas Catechism Class
DESCRIPTION:When you believe in Jesus Christ as your Lord and Saviour\, how do you continue to grow spiritually? Sealing your faith through baptism is an outward expression of your internal conviction that Jesus Christ is King. Grow in the Lord by anchoring yourself in Kingdom truths together with the local community of faith. \n\nTopics covered over 10 weeks: \n\n\n\n\nScripture\, Tradition and Biblical Interpretation\n\n\n\nGod the Father I: The Attributes and Character of God\n\n\n\nGod the Father II: God\, Creation and Humanity (From Creation to Fall to Israel)\n\n\n\nGod the Spirit: The Holy Spirit’s Work of Salvation and Sanctification\n\n\n\nGod the Son I: Christ’s Divinity and Humanity (Christology)\n\n\n\nGod the Son II: Christ’s Work of Salvation\n\n\n\nThe Church and Sacraments (Baptism and Communion)\n\n\n\nThe Age of the Church and Christ’s Second Coming\n\n\n\nMount Carmel’s History\, Vision and Mission (includes a Field trip to where Mount Carmel Bible-Prebyterian Church first started)\n\n\n\nChurch Membership\n\nRegistration here.
URL:https://carmel.sg/event/christmas-catechism-class/2024-09-29/
LOCATION:Clementi Bible Centre\, 152 West Coast Road\, 127370\, Singapore
CATEGORIES:Course
ATTACH;FMTTYPE=image/jpeg:https://carmel.sg/wp-content/uploads/2024/07/All-Baptism-Announcements.jpg
END:VEVENT
BEGIN:VEVENT
DTSTART;TZID=Asia/Singapore:20240929T103000
DTEND;TZID=Asia/Singapore:20240929T133000
DTSTAMP:20260422T150054
CREATED:20240919T170927Z
LAST-MODIFIED:20240923T035738Z
UID:10000355-1727605800-1727616600@carmel.sg
SUMMARY:Newcomer Meal
DESCRIPTION:We welcome all who are new to Mount Carmel to come join us for a meal after service. We love to meet with you all.
URL:https://carmel.sg/event/newcomer-meal/2024-09-29/
LOCATION:Clementi Bible Center\, Hive\, Room 02-13\, 152 West Coast Road\, 120370\, Singapore
ATTACH;FMTTYPE=image/jpeg:https://carmel.sg/wp-content/uploads/2024/09/photo_2024-09-20_01-10-18.jpg
END:VEVENT
BEGIN:VEVENT
DTSTART;TZID=Asia/Singapore:20240929T140000
DTEND;TZID=Asia/Singapore:20240929T160000
DTSTAMP:20260422T150054
CREATED:20240919T165753Z
LAST-MODIFIED:20240919T165807Z
UID:10000353-1727618400-1727625600@carmel.sg
SUMMARY:YAM Sundays!
DESCRIPTION:If you’re in your 20s and 30s\, join Carmel Young Adults for a relaxing and fun-filled day at West Coast Park on September 29th! \nAfter the 2nd service\, we’ll gather at 12:30pm and head to the park for a laid-back picnic lunch. It’s the perfect opportunity to enjoy some quality time together\, whether you’re in the mood for games\, great conversations\, or just unwinding in the fresh air.
URL:https://carmel.sg/event/yam-sundays-3/
LOCATION:West Coast Park\, Singapore
CATEGORIES:Young Adult Ministry
ATTACH;FMTTYPE=image/jpeg:https://carmel.sg/wp-content/uploads/2024/09/Picture1.jpg
END:VEVENT
END:VCALENDAR