BEGIN:VCALENDAR
VERSION:2.0
PRODID:-//Mount Carmel BP Church - ECPv6.15.17//NONSGML v1.0//EN
CALSCALE:GREGORIAN
METHOD:PUBLISH
X-ORIGINAL-URL:https://carmel.sg
X-WR-CALDESC:Events for Mount Carmel BP Church
REFRESH-INTERVAL;VALUE=DURATION:PT1H
X-Robots-Tag:noindex
X-PUBLISHED-TTL:PT1H
BEGIN:VTIMEZONE
TZID:Asia/Singapore
BEGIN:STANDARD
TZOFFSETFROM:+0800
TZOFFSETTO:+0800
TZNAME:+08
DTSTART:20240101T000000
END:STANDARD
END:VTIMEZONE
BEGIN:VEVENT
DTSTART;TZID=Asia/Singapore:20250525T100000
DTEND;TZID=Asia/Singapore:20250525T110000
DTSTAMP:20260423T142141
CREATED:20250503T025151Z
LAST-MODIFIED:20250524T110430Z
UID:10000860-1748167200-1748170800@carmel.sg
SUMMARY:Annual General Meeting (AGM) 2025
DESCRIPTION:Notice is hereby given that the Annual General Meeting (AGM) 2025 will be held on Sunday\, 25 May 2025 at 10.00 a.m. in the Hope Sanctuary\, Clementi Bible Centre. \nDate: Sunday\, 25 May 2025\nTime: 10.00 a.m.\nVenue: Hope Sanctuary\, Clementi Bible Centre \nAgenda:\n1. Determination of Quorum\n2. Scripture Reading and Prayer\n3. Passing of the 2025 ACM Minutes\n4. Passing of 2024 Directors’ Report and Audited Accounts\n5. Update on Phase 4A\n6. Q&A\n7. AOB \nImportant Notes:\n• A member of the Church may only vote by appointing the Chairman of the AGM (Chairman of the Board Of Elders\, Elder Kelvin Teo) as the member’s proxy to vote at the meeting. This is done by depositing with the Church an instrument of appointment\, also known as the Proxy Voting Form\, which has been embedded into the registration link below and enabled for only communicant members to vote. Upon submission\, the combined Registration and Proxy Voting Form will be automatically sent to church@carmel.sg \nhttps://form.jotform.com/mtcarmelsg/agm2025reg \n• A member can only vote at the AGM by submitting a completed Proxy Voting Form not later than 19 May 2025\, 2359 hrs.\n• Members who do not have an email will receive the Registration/ Proxy Voting Form by post\, and will have to mail the completed form back to: AGM Secretariat\, Mount Carmel BP Church\, Clementi Bible Centre\, 152 West Coast Road\, Singapore 127370. It must reach the church office not later than 19 May 2025\, 2359 hrs.\n• Members who require assistance with online registration and voting should contact the church office at 6779 5077 or church@carmel.sg\n• After the Proxy Voting Forms are submitted and counted\, the Chairman will announce the results during the AGM. \nQuestions\n• Questions relating to the agenda will be addressed by the Church leadership in-person at the AGM. To provide sufficient time for a response to be prepared\, we would be grateful if you could please provide your questions by email to church@carmel.sg by no later than 19 May 2025.\nPrivacy Assurance Statement\nPlease be advised that the proxy form voting system\, as prescribed by law\, is an open voting system. We understand that members may have concerns about the secrecy of their votes cast at the forthcoming AGM. Secretariat will ensure that the secrecy of members’ votes will be preserved and secured to the fullest extent possible. \nAGM Documents \n1) 2025 ACM Minutes of Meeting\n2) 2024 Directors’ Report and Audited Accounts\n3) Financial Graphics
URL:https://carmel.sg/event/annual-general-meeting-agm-2025/
LOCATION:Clementi Bible Center\, Hope Sanctuary\, Level 2\, 152 West Coast Road\, 120370\, Singapore
CATEGORIES:AGM
ATTACH;FMTTYPE=image/jpeg:https://carmel.sg/wp-content/uploads/2025/04/AGM-2025-Presentation.jpg
END:VEVENT
END:VCALENDAR